BEGIN:VCALENDAR
VERSION:2.0
PRODID:-//Fredericksburg Tea Party - ECPv6.15.20//NONSGML v1.0//EN
CALSCALE:GREGORIAN
METHOD:PUBLISH
X-WR-CALNAME:Fredericksburg Tea Party
X-ORIGINAL-URL:https://fredericksburgteaparty.org
X-WR-CALDESC:Events for Fredericksburg Tea Party
REFRESH-INTERVAL;VALUE=DURATION:PT1H
X-Robots-Tag:noindex
X-PUBLISHED-TTL:PT1H
BEGIN:VTIMEZONE
TZID:America/Chicago
BEGIN:DAYLIGHT
TZOFFSETFROM:-0600
TZOFFSETTO:-0500
TZNAME:CDT
DTSTART:20250309T080000
END:DAYLIGHT
BEGIN:STANDARD
TZOFFSETFROM:-0500
TZOFFSETTO:-0600
TZNAME:CST
DTSTART:20251102T070000
END:STANDARD
BEGIN:DAYLIGHT
TZOFFSETFROM:-0600
TZOFFSETTO:-0500
TZNAME:CDT
DTSTART:20260308T080000
END:DAYLIGHT
BEGIN:STANDARD
TZOFFSETFROM:-0500
TZOFFSETTO:-0600
TZNAME:CST
DTSTART:20261101T070000
END:STANDARD
BEGIN:DAYLIGHT
TZOFFSETFROM:-0600
TZOFFSETTO:-0500
TZNAME:CDT
DTSTART:20270314T080000
END:DAYLIGHT
BEGIN:STANDARD
TZOFFSETFROM:-0500
TZOFFSETTO:-0600
TZNAME:CST
DTSTART:20271107T070000
END:STANDARD
END:VTIMEZONE
BEGIN:VEVENT
DTSTART;VALUE=DATE:20260131
DTEND;VALUE=DATE:20260202
DTSTAMP:20260421T071703
CREATED:20260126T191711Z
LAST-MODIFIED:20260126T191711Z
UID:6476-1769817600-1769990399@fredericksburgteaparty.org
SUMMARY:Patriot Academy Medical Course
DESCRIPTION:
URL:https://fredericksburgteaparty.org/event/patriot-academy-medical-course/
END:VEVENT
BEGIN:VEVENT
DTSTART;TZID=America/Chicago:20260205T183000
DTEND;TZID=America/Chicago:20260205T203000
DTSTAMP:20260421T071703
CREATED:20260126T191830Z
LAST-MODIFIED:20260126T191830Z
UID:6479-1770316200-1770323400@fredericksburgteaparty.org
SUMMARY:Kerr County Candidate Forum
DESCRIPTION:
URL:https://fredericksburgteaparty.org/event/kerr-county-candidate-forum-2/
END:VEVENT
BEGIN:VEVENT
DTSTART;TZID=America/Chicago:20260206T153000
DTEND;TZID=America/Chicago:20260206T170000
DTSTAMP:20260421T071703
CREATED:20260126T191923Z
LAST-MODIFIED:20260126T191923Z
UID:6481-1770391800-1770397200@fredericksburgteaparty.org
SUMMARY:Medicinal Plants Class
DESCRIPTION:
URL:https://fredericksburgteaparty.org/event/medicinal-plants-class/
END:VEVENT
BEGIN:VEVENT
DTSTART;TZID=America/Chicago:20260209T173000
DTEND;TZID=America/Chicago:20260209T193000
DTSTAMP:20260421T071703
CREATED:20260126T192012Z
LAST-MODIFIED:20260126T192012Z
UID:6483-1770658200-1770665400@fredericksburgteaparty.org
SUMMARY:Kerrville Christian Chamber Meeting
DESCRIPTION:Kerrville Christian Chamber Meeting \nMonday\, February 9th at 5:30 PM \nGuest speaker is Marvin Willis with a discussion on marketing \nBK Cosmo\n315 West Main St\, Kerrville
URL:https://fredericksburgteaparty.org/event/kerrville-christian-chamber-meeting-5/
END:VEVENT
BEGIN:VEVENT
DTSTART;TZID=America/Chicago:20260212T170000
DTEND;TZID=America/Chicago:20260212T193000
DTSTAMP:20260421T071703
CREATED:20260126T192132Z
LAST-MODIFIED:20260126T192132Z
UID:6485-1770915600-1770924600@fredericksburgteaparty.org
SUMMARY:FTP's Annual Guns & Roses Meeting
DESCRIPTION:
URL:https://fredericksburgteaparty.org/event/ftps-annual-guns-roses-meeting/
END:VEVENT
BEGIN:VEVENT
DTSTART;TZID=America/Chicago:20260212T190000
DTEND;TZID=America/Chicago:20260212T210000
DTSTAMP:20260421T071703
CREATED:20260209T223312Z
LAST-MODIFIED:20260209T223312Z
UID:6538-1770922800-1770930000@fredericksburgteaparty.org
SUMMARY:Kendall County Candidate Forum
DESCRIPTION:
URL:https://fredericksburgteaparty.org/event/kendall-county-candidate-forum/
END:VEVENT
BEGIN:VEVENT
DTSTART;VALUE=DATE:20260213
DTEND;VALUE=DATE:20260215
DTSTAMP:20260421T071703
CREATED:20260107T152437Z
LAST-MODIFIED:20260107T152437Z
UID:6456-1770940800-1771113599@fredericksburgteaparty.org
SUMMARY:Land & Liberty Summit
DESCRIPTION:Click HERE for event details \n 
URL:https://fredericksburgteaparty.org/event/land-liberty-summit/
END:VEVENT
BEGIN:VEVENT
DTSTART;TZID=America/Chicago:20260217T190000
DTEND;TZID=America/Chicago:20260217T210000
DTSTAMP:20260421T071703
CREATED:20260209T223359Z
LAST-MODIFIED:20260209T223359Z
UID:6540-1771354800-1771362000@fredericksburgteaparty.org
SUMMARY:TX Attorney General Debate
DESCRIPTION:
URL:https://fredericksburgteaparty.org/event/tx-attorney-general-debate/
END:VEVENT
END:VCALENDAR