BEGIN:VCALENDAR
VERSION:2.0
PRODID:-//Fredericksburg Tea Party - ECPv6.15.20//NONSGML v1.0//EN
CALSCALE:GREGORIAN
METHOD:PUBLISH
X-WR-CALNAME:Fredericksburg Tea Party
X-ORIGINAL-URL:https://fredericksburgteaparty.org
X-WR-CALDESC:Events for Fredericksburg Tea Party
REFRESH-INTERVAL;VALUE=DURATION:PT1H
X-Robots-Tag:noindex
X-PUBLISHED-TTL:PT1H
BEGIN:VTIMEZONE
TZID:America/Chicago
BEGIN:DAYLIGHT
TZOFFSETFROM:-0600
TZOFFSETTO:-0500
TZNAME:CDT
DTSTART:20250309T080000
END:DAYLIGHT
BEGIN:STANDARD
TZOFFSETFROM:-0500
TZOFFSETTO:-0600
TZNAME:CST
DTSTART:20251102T070000
END:STANDARD
BEGIN:DAYLIGHT
TZOFFSETFROM:-0600
TZOFFSETTO:-0500
TZNAME:CDT
DTSTART:20260308T080000
END:DAYLIGHT
BEGIN:STANDARD
TZOFFSETFROM:-0500
TZOFFSETTO:-0600
TZNAME:CST
DTSTART:20261101T070000
END:STANDARD
BEGIN:DAYLIGHT
TZOFFSETFROM:-0600
TZOFFSETTO:-0500
TZNAME:CDT
DTSTART:20270314T080000
END:DAYLIGHT
BEGIN:STANDARD
TZOFFSETFROM:-0500
TZOFFSETTO:-0600
TZNAME:CST
DTSTART:20271107T070000
END:STANDARD
END:VTIMEZONE
BEGIN:VEVENT
DTSTART;TZID=America/Chicago:20260103T130000
DTEND;TZID=America/Chicago:20260103T140000
DTSTAMP:20260421T083624
CREATED:20251229T190742Z
LAST-MODIFIED:20251229T190742Z
UID:6450-1767445200-1767448800@fredericksburgteaparty.org
SUMMARY:Celebration of Steve Lehman
DESCRIPTION:The community is invited to honor Steve Lehman (co-founder of Hill Country Preppers for disaster preparedness) at a memorial service on January 3\, 2026\, from 1:00 PM to 2:00 PM at Kerrville Funeral Home\, located at 1221 Junction Highway\, Kerrville\, TX 78028
URL:https://fredericksburgteaparty.org/event/celebration-of-steve-lehman/
END:VEVENT
BEGIN:VEVENT
DTSTART;TZID=America/Chicago:20260108T170000
DTEND;TZID=America/Chicago:20260108T200000
DTSTAMP:20260421T083624
CREATED:20251229T190646Z
LAST-MODIFIED:20251229T190646Z
UID:6448-1767891600-1767902400@fredericksburgteaparty.org
SUMMARY:FTP's January Meeting
DESCRIPTION:
URL:https://fredericksburgteaparty.org/event/ftps-january-meeting/
END:VEVENT
BEGIN:VEVENT
DTSTART;TZID=America/Chicago:20260115T183000
DTEND;TZID=America/Chicago:20260115T203000
DTSTAMP:20260421T083624
CREATED:20251124T191948Z
LAST-MODIFIED:20251124T191948Z
UID:6397-1768501800-1768509000@fredericksburgteaparty.org
SUMMARY:CD 21 Candidate Forum
DESCRIPTION:
URL:https://fredericksburgteaparty.org/event/cd-21-candidate-forum-2/
END:VEVENT
BEGIN:VEVENT
DTSTART;VALUE=DATE:20260117
DTEND;VALUE=DATE:20260118
DTSTAMP:20260421T083624
CREATED:20251215T191159Z
LAST-MODIFIED:20251215T191159Z
UID:6429-1768608000-1768694399@fredericksburgteaparty.org
SUMMARY:Health Freedom Summit
DESCRIPTION:
URL:https://fredericksburgteaparty.org/event/health-freedom-summit/
END:VEVENT
BEGIN:VEVENT
DTSTART;VALUE=DATE:20260127
DTEND;VALUE=DATE:20260128
DTSTAMP:20260421T083624
CREATED:20251205T183402Z
LAST-MODIFIED:20251215T191331Z
UID:6410-1769472000-1769558399@fredericksburgteaparty.org
SUMMARY:US & TX Candidate Forum
DESCRIPTION:
URL:https://fredericksburgteaparty.org/event/us-tx-candidate-forum/
END:VEVENT
BEGIN:VEVENT
DTSTART;TZID=America/Chicago:20260129T130000
DTEND;TZID=America/Chicago:20260129T150000
DTSTAMP:20260421T083624
CREATED:20251229T190837Z
LAST-MODIFIED:20251229T190837Z
UID:6452-1769691600-1769698800@fredericksburgteaparty.org
SUMMARY:Llano Candidate Forum
DESCRIPTION:
URL:https://fredericksburgteaparty.org/event/llano-candidate-forum/
END:VEVENT
BEGIN:VEVENT
DTSTART;VALUE=DATE:20260131
DTEND;VALUE=DATE:20260202
DTSTAMP:20260421T083624
CREATED:20260126T191711Z
LAST-MODIFIED:20260126T191711Z
UID:6476-1769817600-1769990399@fredericksburgteaparty.org
SUMMARY:Patriot Academy Medical Course
DESCRIPTION:
URL:https://fredericksburgteaparty.org/event/patriot-academy-medical-course/
END:VEVENT
END:VCALENDAR