BEGIN:VCALENDAR
VERSION:2.0
PRODID:-//Fredericksburg Tea Party - ECPv6.15.20//NONSGML v1.0//EN
CALSCALE:GREGORIAN
METHOD:PUBLISH
X-ORIGINAL-URL:https://fredericksburgteaparty.org
X-WR-CALDESC:Events for Fredericksburg Tea Party
REFRESH-INTERVAL;VALUE=DURATION:PT1H
X-Robots-Tag:noindex
X-PUBLISHED-TTL:PT1H
BEGIN:VTIMEZONE
TZID:America/Chicago
BEGIN:DAYLIGHT
TZOFFSETFROM:-0600
TZOFFSETTO:-0500
TZNAME:CDT
DTSTART:20240310T080000
END:DAYLIGHT
BEGIN:STANDARD
TZOFFSETFROM:-0500
TZOFFSETTO:-0600
TZNAME:CST
DTSTART:20241103T070000
END:STANDARD
BEGIN:DAYLIGHT
TZOFFSETFROM:-0600
TZOFFSETTO:-0500
TZNAME:CDT
DTSTART:20250309T080000
END:DAYLIGHT
BEGIN:STANDARD
TZOFFSETFROM:-0500
TZOFFSETTO:-0600
TZNAME:CST
DTSTART:20251102T070000
END:STANDARD
BEGIN:DAYLIGHT
TZOFFSETFROM:-0600
TZOFFSETTO:-0500
TZNAME:CDT
DTSTART:20260308T080000
END:DAYLIGHT
BEGIN:STANDARD
TZOFFSETFROM:-0500
TZOFFSETTO:-0600
TZNAME:CST
DTSTART:20261101T070000
END:STANDARD
END:VTIMEZONE
BEGIN:VEVENT
DTSTART;TZID=America/Chicago:20251209T180000
DTEND;TZID=America/Chicago:20251209T200000
DTSTAMP:20260421T095958
CREATED:20251124T191900Z
LAST-MODIFIED:20251124T191900Z
UID:6395-1765303200-1765310400@fredericksburgteaparty.org
SUMMARY:CD 21 Candidate Forum
DESCRIPTION:
URL:https://fredericksburgteaparty.org/event/cd-21-candidate-forum/
END:VEVENT
BEGIN:VEVENT
DTSTART;TZID=America/Chicago:20251216T090000
DTEND;TZID=America/Chicago:20251216T110000
DTSTAMP:20260421T095958
CREATED:20251215T191110Z
LAST-MODIFIED:20251215T191110Z
UID:6427-1765875600-1765882800@fredericksburgteaparty.org
SUMMARY:Public Hearing on Water Conservation
DESCRIPTION:Are you concerned about the water in Gillespie county? \nFredericksburg is in Stage 4 water restrictions\, yet there are a staggering 7\,588 new lots/units proposed or under construction\, according to the Gillespie County Economic Development Commission \nMore information can be found here \nYOU are invited to attend this hearing. Public comments are encouraged!
URL:https://fredericksburgteaparty.org/event/public-hearing-on-water-conservation/
END:VEVENT
BEGIN:VEVENT
DTSTART;TZID=America/Chicago:20251218T180000
DTEND;TZID=America/Chicago:20251218T200000
DTSTAMP:20260421T095958
CREATED:20251205T183229Z
LAST-MODIFIED:20251205T183229Z
UID:6408-1766080800-1766088000@fredericksburgteaparty.org
SUMMARY:HC Preppers Christmas Party
DESCRIPTION:
URL:https://fredericksburgteaparty.org/event/hc-preppers-christmas-party/
END:VEVENT
BEGIN:VEVENT
DTSTART;VALUE=DATE:20251221
DTEND;VALUE=DATE:20251223
DTSTAMP:20260421T095958
CREATED:20251019T212119Z
LAST-MODIFIED:20251019T212241Z
UID:6316-1766275200-1766447999@fredericksburgteaparty.org
SUMMARY:Candelight Christmas Concert
DESCRIPTION:
URL:https://fredericksburgteaparty.org/event/6316/
END:VEVENT
END:VCALENDAR