BEGIN:VCALENDAR
VERSION:2.0
PRODID:-//Fredericksburg Tea Party - ECPv6.15.20//NONSGML v1.0//EN
CALSCALE:GREGORIAN
METHOD:PUBLISH
X-ORIGINAL-URL:https://fredericksburgteaparty.org
X-WR-CALDESC:Events for Fredericksburg Tea Party
REFRESH-INTERVAL;VALUE=DURATION:PT1H
X-Robots-Tag:noindex
X-PUBLISHED-TTL:PT1H
BEGIN:VTIMEZONE
TZID:America/Chicago
BEGIN:DAYLIGHT
TZOFFSETFROM:-0600
TZOFFSETTO:-0500
TZNAME:CDT
DTSTART:20240310T080000
END:DAYLIGHT
BEGIN:STANDARD
TZOFFSETFROM:-0500
TZOFFSETTO:-0600
TZNAME:CST
DTSTART:20241103T070000
END:STANDARD
BEGIN:DAYLIGHT
TZOFFSETFROM:-0600
TZOFFSETTO:-0500
TZNAME:CDT
DTSTART:20250309T080000
END:DAYLIGHT
BEGIN:STANDARD
TZOFFSETFROM:-0500
TZOFFSETTO:-0600
TZNAME:CST
DTSTART:20251102T070000
END:STANDARD
BEGIN:DAYLIGHT
TZOFFSETFROM:-0600
TZOFFSETTO:-0500
TZNAME:CDT
DTSTART:20260308T080000
END:DAYLIGHT
BEGIN:STANDARD
TZOFFSETFROM:-0500
TZOFFSETTO:-0600
TZNAME:CST
DTSTART:20261101T070000
END:STANDARD
END:VTIMEZONE
BEGIN:VEVENT
DTSTART;TZID=America/Chicago:20250120T190000
DTEND;TZID=America/Chicago:20250120T210000
DTSTAMP:20260422T022326
CREATED:20250120T194349Z
LAST-MODIFIED:20250203T175801Z
UID:5883-1737399600-1737406800@fredericksburgteaparty.org
SUMMARY:Chasing American Legends
DESCRIPTION:Details here
URL:https://fredericksburgteaparty.org/event/chasing-american-legends/
END:VEVENT
BEGIN:VEVENT
DTSTART;TZID=America/Chicago:20250120T190000
DTEND;TZID=America/Chicago:20250120T210000
DTSTAMP:20260422T022326
CREATED:20250120T194349Z
LAST-MODIFIED:20250203T175801Z
UID:5883-1737399600-1737406800@fredericksburgteaparty.org
SUMMARY:Chasing American Legends
DESCRIPTION:Details here
URL:https://fredericksburgteaparty.org/event/chasing-american-legends/
END:VEVENT
BEGIN:VEVENT
DTSTART;TZID=America/Chicago:20250213T180000
DTEND;TZID=America/Chicago:20250213T200000
DTSTAMP:20260422T022326
CREATED:20250113T234444Z
LAST-MODIFIED:20250113T234444Z
UID:5866-1739469600-1739476800@fredericksburgteaparty.org
SUMMARY:2025 Guns & Roses Meeting
DESCRIPTION:
URL:https://fredericksburgteaparty.org/event/2025-guns-roses-meeting/
END:VEVENT
BEGIN:VEVENT
DTSTART;TZID=America/Chicago:20250215T090000
DTEND;TZID=America/Chicago:20250215T120000
DTSTAMP:20260422T022326
CREATED:20250203T180110Z
LAST-MODIFIED:20250203T180110Z
UID:5905-1739610000-1739620800@fredericksburgteaparty.org
SUMMARY:Texas Legislature Online (TLO) Training
DESCRIPTION:Saturday\, February 15th at 9 AM \nTexas Legislature Online (TLO) Training\nMatt Long will provide training on how to use TLO to track legislation in Texas \nBring a laptop or tablet \nBridge Church\, Fredericksburg
URL:https://fredericksburgteaparty.org/event/texas-legislature-online-tlo-training/
END:VEVENT
BEGIN:VEVENT
DTSTART;TZID=America/Chicago:20250217T180000
DTEND;TZID=America/Chicago:20250217T200000
DTSTAMP:20260422T022326
CREATED:20250212T001229Z
LAST-MODIFIED:20250212T001229Z
UID:5928-1739815200-1739822400@fredericksburgteaparty.org
SUMMARY:Kerr County Patriots Meeting
DESCRIPTION:
URL:https://fredericksburgteaparty.org/event/kerr-county-patriots-meeting-2/
END:VEVENT
BEGIN:VEVENT
DTSTART;TZID=America/Chicago:20250120T190000
DTEND;TZID=America/Chicago:20250120T210000
DTSTAMP:20260422T022326
CREATED:20250120T194349Z
LAST-MODIFIED:20250203T175801Z
UID:5883-1737399600-1737406800@fredericksburgteaparty.org
SUMMARY:Chasing American Legends
DESCRIPTION:Details here
URL:https://fredericksburgteaparty.org/event/chasing-american-legends/
END:VEVENT
BEGIN:VEVENT
DTSTART;TZID=America/Chicago:20250218T130000
DTEND;TZID=America/Chicago:20250218T150000
DTSTAMP:20260422T022326
CREATED:20250113T234605Z
LAST-MODIFIED:20250113T234605Z
UID:5869-1739883600-1739890800@fredericksburgteaparty.org
SUMMARY:TFVC Freedom Fight Rally
DESCRIPTION:
URL:https://fredericksburgteaparty.org/event/tfvc-freedom-fight-rally/
END:VEVENT
BEGIN:VEVENT
DTSTART;TZID=America/Chicago:20250218T180000
DTEND;TZID=America/Chicago:20250218T200000
DTSTAMP:20260422T022326
CREATED:20250113T234656Z
LAST-MODIFIED:20250113T234656Z
UID:5871-1739901600-1739908800@fredericksburgteaparty.org
SUMMARY:Situational Awareness Training
DESCRIPTION:
URL:https://fredericksburgteaparty.org/event/situational-awareness-training/
END:VEVENT
BEGIN:VEVENT
DTSTART;TZID=America/Chicago:20250220T180000
DTEND;TZID=America/Chicago:20250220T200000
DTSTAMP:20260422T022326
CREATED:20250217T200040Z
LAST-MODIFIED:20250217T200040Z
UID:5947-1740074400-1740081600@fredericksburgteaparty.org
SUMMARY:Hill Country Preppers Meeting
DESCRIPTION:Thursday\, February 20th at 6 PM \nHill Country Preppers Meeting\nPresenting a podcast from Dr. Joe Alton and Amy Alton A.P.R.N. (Dr. Bones and Nurse Amy) on Winter weather medical concerns and treatments\, pet first aid and medical kits. \nBuzzie’s BBQ\n213 Schreiner St\, Kerrville
URL:https://fredericksburgteaparty.org/event/hill-country-preppers-meeting-8/
END:VEVENT
BEGIN:VEVENT
DTSTART;TZID=America/Chicago:20250120T190000
DTEND;TZID=America/Chicago:20250120T210000
DTSTAMP:20260422T022326
CREATED:20250120T194349Z
LAST-MODIFIED:20250203T175801Z
UID:5883-1737399600-1737406800@fredericksburgteaparty.org
SUMMARY:Chasing American Legends
DESCRIPTION:Details here
URL:https://fredericksburgteaparty.org/event/chasing-american-legends/
END:VEVENT
END:VCALENDAR