BEGIN:VCALENDAR
VERSION:2.0
PRODID:-//Fredericksburg Tea Party - ECPv6.15.20//NONSGML v1.0//EN
CALSCALE:GREGORIAN
METHOD:PUBLISH
X-ORIGINAL-URL:https://fredericksburgteaparty.org
X-WR-CALDESC:Events for Fredericksburg Tea Party
REFRESH-INTERVAL;VALUE=DURATION:PT1H
X-Robots-Tag:noindex
X-PUBLISHED-TTL:PT1H
BEGIN:VTIMEZONE
TZID:America/Chicago
BEGIN:DAYLIGHT
TZOFFSETFROM:-0600
TZOFFSETTO:-0500
TZNAME:CDT
DTSTART:20230312T080000
END:DAYLIGHT
BEGIN:STANDARD
TZOFFSETFROM:-0500
TZOFFSETTO:-0600
TZNAME:CST
DTSTART:20231105T070000
END:STANDARD
BEGIN:DAYLIGHT
TZOFFSETFROM:-0600
TZOFFSETTO:-0500
TZNAME:CDT
DTSTART:20240310T080000
END:DAYLIGHT
BEGIN:STANDARD
TZOFFSETFROM:-0500
TZOFFSETTO:-0600
TZNAME:CST
DTSTART:20241103T070000
END:STANDARD
BEGIN:DAYLIGHT
TZOFFSETFROM:-0600
TZOFFSETTO:-0500
TZNAME:CDT
DTSTART:20250309T080000
END:DAYLIGHT
BEGIN:STANDARD
TZOFFSETFROM:-0500
TZOFFSETTO:-0600
TZNAME:CST
DTSTART:20251102T070000
END:STANDARD
END:VTIMEZONE
BEGIN:VEVENT
DTSTART;VALUE=DATE:20240912
DTEND;VALUE=DATE:20241106
DTSTAMP:20260422T063820
CREATED:20240918T210750Z
LAST-MODIFIED:20240918T210750Z
UID:5716-1726099200-1730851199@fredericksburgteaparty.org
SUMMARY:GOA No Compromise Tour
DESCRIPTION:
URL:https://fredericksburgteaparty.org/event/goa-no-compromise-tour/
END:VEVENT
BEGIN:VEVENT
DTSTART;TZID=America/Chicago:20241105T190000
DTEND;TZID=America/Chicago:20241105T233000
DTSTAMP:20260422T063820
CREATED:20241021T184823Z
LAST-MODIFIED:20241021T184823Z
UID:5759-1730833200-1730849400@fredericksburgteaparty.org
SUMMARY:Election Night Watch Party
DESCRIPTION:
URL:https://fredericksburgteaparty.org/event/election-night-watch-party/
END:VEVENT
BEGIN:VEVENT
DTSTART;TZID=America/Chicago:20241108T173000
DTEND;TZID=America/Chicago:20241108T193000
DTSTAMP:20260422T063820
CREATED:20241108T203727Z
LAST-MODIFIED:20241108T203727Z
UID:5788-1731087000-1731094200@fredericksburgteaparty.org
SUMMARY:Screening of 22 Words
DESCRIPTION:
URL:https://fredericksburgteaparty.org/event/screening-of-22-words/
END:VEVENT
BEGIN:VEVENT
DTSTART;TZID=America/Chicago:20241109T100000
DTEND;TZID=America/Chicago:20241109T150000
DTSTAMP:20260422T063820
CREATED:20241021T184911Z
LAST-MODIFIED:20241021T184911Z
UID:5761-1731146400-1731164400@fredericksburgteaparty.org
SUMMARY:Zanzenberg Festival
DESCRIPTION:
URL:https://fredericksburgteaparty.org/event/zanzenberg-festival/
END:VEVENT
BEGIN:VEVENT
DTSTART;VALUE=DATE:20241119
DTEND;VALUE=DATE:20241120
DTSTAMP:20260422T063820
CREATED:20241118T180909Z
LAST-MODIFIED:20241118T180909Z
UID:5811-1731974400-1732060799@fredericksburgteaparty.org
SUMMARY:Lithium Storage in Harper Meeting
DESCRIPTION:Plus! Tuesday\, November 19th at 1:00 PM \nWorkshop of the Kerr County Commissioners’ Court on forming a 391 Commission \nThe workshop will be live streamed here \nDan Byfield with American Stewards of Liberty will join the workshop on a conference call as will the Hon. Judge Trey Duhon from Waller County to share their experience in forming and working within 391 commissions \nRep. Ellen Troxclair has filed HB 1343 to provide critical permitting and oversight regulations for all battery storage facilities in Texas \nLearn more about Battery Storage Systems here
URL:https://fredericksburgteaparty.org/event/lithium-storage-in-harper-meeting/
END:VEVENT
BEGIN:VEVENT
DTSTART;TZID=America/Chicago:20241119T180000
DTEND;TZID=America/Chicago:20241119T200000
DTSTAMP:20260422T063820
CREATED:20241021T184953Z
LAST-MODIFIED:20241021T184953Z
UID:5763-1732039200-1732046400@fredericksburgteaparty.org
SUMMARY:Active Shooter Workshop
DESCRIPTION:
URL:https://fredericksburgteaparty.org/event/active-shooter-workshop/
END:VEVENT
BEGIN:VEVENT
DTSTART;TZID=America/Chicago:20241119T180000
DTEND;TZID=America/Chicago:20241119T200000
DTSTAMP:20260422T063820
CREATED:20241108T204626Z
LAST-MODIFIED:20241108T204626Z
UID:5790-1732039200-1732046400@fredericksburgteaparty.org
SUMMARY:Kerrville Christian Chamber Meeting
DESCRIPTION:Tuesday\, November 19th at 6 PM \nKerrville Christian Chamber Meeting\nfeaturing a concert performance from Elizabeth Rose Williams \nThere will be time for networking and announcements related to your businesses \nBCFS Building\n1127 East Main St\, Kerrville
URL:https://fredericksburgteaparty.org/event/kerrville-christian-chamber-meeting-4/
END:VEVENT
BEGIN:VEVENT
DTSTART;TZID=America/Chicago:20241120T180000
DTEND;TZID=America/Chicago:20241120T200000
DTSTAMP:20260422T063820
CREATED:20241118T181856Z
LAST-MODIFIED:20241118T181856Z
UID:5815-1732125600-1732132800@fredericksburgteaparty.org
SUMMARY:Meet Senator Bob Hall
DESCRIPTION:
URL:https://fredericksburgteaparty.org/event/meet-senator-bob-hall/
END:VEVENT
BEGIN:VEVENT
DTSTART;TZID=America/Chicago:20241121T180000
DTEND;TZID=America/Chicago:20241121T200000
DTSTAMP:20260422T063820
CREATED:20241118T181011Z
LAST-MODIFIED:20241118T181011Z
UID:5813-1732212000-1732219200@fredericksburgteaparty.org
SUMMARY:Hill Country Preppers Meeting
DESCRIPTION:Thursday\, November 21st at 6 PM \nHill Country Preppers Meeting\nJoin us as we host Red Cross Meteorologist Richard McCallister for an informative briefing on the upcoming winter weather \nBuzzie’s BBQ\n213 Schreiner St\, Kerrville
URL:https://fredericksburgteaparty.org/event/hill-country-preppers-meeting-6/
END:VEVENT
END:VCALENDAR