BEGIN:VCALENDAR
VERSION:2.0
PRODID:-//Fredericksburg Tea Party - ECPv6.15.20//NONSGML v1.0//EN
CALSCALE:GREGORIAN
METHOD:PUBLISH
X-ORIGINAL-URL:https://fredericksburgteaparty.org
X-WR-CALDESC:Events for Fredericksburg Tea Party
REFRESH-INTERVAL;VALUE=DURATION:PT1H
X-Robots-Tag:noindex
X-PUBLISHED-TTL:PT1H
BEGIN:VTIMEZONE
TZID:America/Chicago
BEGIN:DAYLIGHT
TZOFFSETFROM:-0600
TZOFFSETTO:-0500
TZNAME:CDT
DTSTART:20230312T080000
END:DAYLIGHT
BEGIN:STANDARD
TZOFFSETFROM:-0500
TZOFFSETTO:-0600
TZNAME:CST
DTSTART:20231105T070000
END:STANDARD
BEGIN:DAYLIGHT
TZOFFSETFROM:-0600
TZOFFSETTO:-0500
TZNAME:CDT
DTSTART:20240310T080000
END:DAYLIGHT
BEGIN:STANDARD
TZOFFSETFROM:-0500
TZOFFSETTO:-0600
TZNAME:CST
DTSTART:20241103T070000
END:STANDARD
BEGIN:DAYLIGHT
TZOFFSETFROM:-0600
TZOFFSETTO:-0500
TZNAME:CDT
DTSTART:20250309T080000
END:DAYLIGHT
BEGIN:STANDARD
TZOFFSETFROM:-0500
TZOFFSETTO:-0600
TZNAME:CST
DTSTART:20251102T070000
END:STANDARD
END:VTIMEZONE
BEGIN:VEVENT
DTSTART;TZID=America/Chicago:20240715T190000
DTEND;TZID=America/Chicago:20240902T210000
DTSTAMP:20260422T103310
CREATED:20240717T144435Z
LAST-MODIFIED:20240717T144435Z
UID:5620-1721070000-1725310800@fredericksburgteaparty.org
SUMMARY:Biblical Citizenship Training
DESCRIPTION:
URL:https://fredericksburgteaparty.org/event/biblical-citizenship-training/
END:VEVENT
BEGIN:VEVENT
DTSTART;TZID=America/Chicago:20240801T180000
DTEND;TZID=America/Chicago:20240801T193000
DTSTAMP:20260422T103310
CREATED:20240722T205811Z
LAST-MODIFIED:20240722T205811Z
UID:5646-1722535200-1722540600@fredericksburgteaparty.org
SUMMARY:Joseph Vargas in Llano
DESCRIPTION:
URL:https://fredericksburgteaparty.org/event/joseph-vargas-in-llano/
END:VEVENT
BEGIN:VEVENT
DTSTART;TZID=America/Chicago:20240807T180000
DTEND;TZID=America/Chicago:20240807T193000
DTSTAMP:20260422T103310
CREATED:20240722T210213Z
LAST-MODIFIED:20240722T210213Z
UID:5649-1723053600-1723059000@fredericksburgteaparty.org
SUMMARY:Liberty in Action Meet Up
DESCRIPTION:
URL:https://fredericksburgteaparty.org/event/liberty-in-action-meet-up-3/
END:VEVENT
BEGIN:VEVENT
DTSTART;TZID=America/Chicago:20240827T100000
DTEND;TZID=America/Chicago:20240827T140000
DTSTAMP:20260422T103310
CREATED:20240822T183617Z
LAST-MODIFIED:20240822T183617Z
UID:5680-1724752800-1724767200@fredericksburgteaparty.org
SUMMARY:Parent Empowerment Summit
DESCRIPTION:
URL:https://fredericksburgteaparty.org/event/parent-empowerment-summit/
END:VEVENT
BEGIN:VEVENT
DTSTART;TZID=America/Chicago:20240827T133000
DTEND;TZID=America/Chicago:20240827T150000
DTSTAMP:20260422T103310
CREATED:20240822T183516Z
LAST-MODIFIED:20240822T183516Z
UID:5678-1724765400-1724770800@fredericksburgteaparty.org
SUMMARY:Political Training with Naomi Narvaiz
DESCRIPTION:
URL:https://fredericksburgteaparty.org/event/political-training-with-naomi-narvaiz/
END:VEVENT
BEGIN:VEVENT
DTSTART;TZID=America/Chicago:20240831T090000
DTEND;TZID=America/Chicago:20240831T160000
DTSTAMP:20260422T103310
CREATED:20240528T143629Z
LAST-MODIFIED:20240528T144059Z
UID:5523-1725094800-1725120000@fredericksburgteaparty.org
SUMMARY:Kerr County Emergency Preparedness Expo
DESCRIPTION:
URL:https://fredericksburgteaparty.org/event/5523/
END:VEVENT
END:VCALENDAR