BEGIN:VCALENDAR
VERSION:2.0
PRODID:-//Fredericksburg Tea Party - ECPv6.15.20//NONSGML v1.0//EN
CALSCALE:GREGORIAN
METHOD:PUBLISH
X-ORIGINAL-URL:https://fredericksburgteaparty.org
X-WR-CALDESC:Events for Fredericksburg Tea Party
REFRESH-INTERVAL;VALUE=DURATION:PT1H
X-Robots-Tag:noindex
X-PUBLISHED-TTL:PT1H
BEGIN:VTIMEZONE
TZID:America/Chicago
BEGIN:DAYLIGHT
TZOFFSETFROM:-0600
TZOFFSETTO:-0500
TZNAME:CDT
DTSTART:20230312T080000
END:DAYLIGHT
BEGIN:STANDARD
TZOFFSETFROM:-0500
TZOFFSETTO:-0600
TZNAME:CST
DTSTART:20231105T070000
END:STANDARD
BEGIN:DAYLIGHT
TZOFFSETFROM:-0600
TZOFFSETTO:-0500
TZNAME:CDT
DTSTART:20240310T080000
END:DAYLIGHT
BEGIN:STANDARD
TZOFFSETFROM:-0500
TZOFFSETTO:-0600
TZNAME:CST
DTSTART:20241103T070000
END:STANDARD
BEGIN:DAYLIGHT
TZOFFSETFROM:-0600
TZOFFSETTO:-0500
TZNAME:CDT
DTSTART:20250309T080000
END:DAYLIGHT
BEGIN:STANDARD
TZOFFSETFROM:-0500
TZOFFSETTO:-0600
TZNAME:CST
DTSTART:20251102T070000
END:STANDARD
END:VTIMEZONE
BEGIN:VEVENT
DTSTART;TZID=America/Chicago:20240406T170000
DTEND;TZID=America/Chicago:20240406T210000
DTSTAMP:20260422T174045
CREATED:20240220T190725Z
LAST-MODIFIED:20240220T190725Z
UID:5341-1712422800-1712437200@fredericksburgteaparty.org
SUMMARY:Rhinestones on the River fundraiser
DESCRIPTION:
URL:https://fredericksburgteaparty.org/event/rhinestones-on-the-river-fundraiser/
END:VEVENT
BEGIN:VEVENT
DTSTART;TZID=America/Chicago:20240411T180000
DTEND;TZID=America/Chicago:20240411T200000
DTSTAMP:20260422T174045
CREATED:20240322T225228Z
LAST-MODIFIED:20240322T225228Z
UID:5375-1712858400-1712865600@fredericksburgteaparty.org
SUMMARY:FTP April Meeting
DESCRIPTION:
URL:https://fredericksburgteaparty.org/event/ftp-april-meeting/
END:VEVENT
BEGIN:VEVENT
DTSTART;TZID=America/Chicago:20240415T180000
DTEND;TZID=America/Chicago:20240415T200000
DTSTAMP:20260422T174045
CREATED:20240408T214358Z
LAST-MODIFIED:20240408T214358Z
UID:5432-1713204000-1713211200@fredericksburgteaparty.org
SUMMARY:Kerrville Christian Chamber Meeting
DESCRIPTION:Monday\, April 15th at 6 PM \nKerrville Christian Chamber Meeting\nMeet candidates for Mayor and City Council\, Roman Garcia and Barbara Dewell Ferguson \nBCFS building\n1127 East Main St.\nLarge conference room\, upstairs on the left
URL:https://fredericksburgteaparty.org/event/kerrville-christian-chamber-meeting/
END:VEVENT
BEGIN:VEVENT
DTSTART;TZID=America/Chicago:20240418T180000
DTEND;TZID=America/Chicago:20240418T200000
DTSTAMP:20260422T174045
CREATED:20240408T214509Z
LAST-MODIFIED:20240408T214509Z
UID:5434-1713463200-1713470400@fredericksburgteaparty.org
SUMMARY:Hill Country Preppers Meeting
DESCRIPTION:Thursday\, April 18th at 6 PM \nHill Country Preppers Meeting\nAddicott is an American lawyer\, legal scholar\, author and educator. He is the Director of the Warrior Defense Project at St. Mary’s University School of Law in San Antonio. His topic will be National Security.  \nBuzzie’s BBQ\n213 Schreiner St\, Kerrville
URL:https://fredericksburgteaparty.org/event/hill-country-preppers-meeting-5/
LOCATION:Buzzie’s BBQ\, 213 Schreiner St\, Kerrville\, TX\, United States
END:VEVENT
BEGIN:VEVENT
DTSTART;TZID=America/Chicago:20240429T190000
DTEND;TZID=America/Chicago:20240429T210000
DTSTAMP:20260422T174045
CREATED:20240426T211123Z
LAST-MODIFIED:20240426T211123Z
UID:5455-1714417200-1714424400@fredericksburgteaparty.org
SUMMARY:Free Showing: Letter to the American Church
DESCRIPTION:
URL:https://fredericksburgteaparty.org/event/free-showing-letter-to-the-american-church/
END:VEVENT
END:VCALENDAR