BEGIN:VCALENDAR
VERSION:2.0
PRODID:-//Fredericksburg Tea Party - ECPv6.15.20//NONSGML v1.0//EN
CALSCALE:GREGORIAN
METHOD:PUBLISH
X-WR-CALNAME:Fredericksburg Tea Party
X-ORIGINAL-URL:https://fredericksburgteaparty.org
X-WR-CALDESC:Events for Fredericksburg Tea Party
REFRESH-INTERVAL;VALUE=DURATION:PT1H
X-Robots-Tag:noindex
X-PUBLISHED-TTL:PT1H
BEGIN:VTIMEZONE
TZID:America/Chicago
BEGIN:DAYLIGHT
TZOFFSETFROM:-0600
TZOFFSETTO:-0500
TZNAME:CDT
DTSTART:20230312T080000
END:DAYLIGHT
BEGIN:STANDARD
TZOFFSETFROM:-0500
TZOFFSETTO:-0600
TZNAME:CST
DTSTART:20231105T070000
END:STANDARD
BEGIN:DAYLIGHT
TZOFFSETFROM:-0600
TZOFFSETTO:-0500
TZNAME:CDT
DTSTART:20240310T080000
END:DAYLIGHT
BEGIN:STANDARD
TZOFFSETFROM:-0500
TZOFFSETTO:-0600
TZNAME:CST
DTSTART:20241103T070000
END:STANDARD
BEGIN:DAYLIGHT
TZOFFSETFROM:-0600
TZOFFSETTO:-0500
TZNAME:CDT
DTSTART:20250309T080000
END:DAYLIGHT
BEGIN:STANDARD
TZOFFSETFROM:-0500
TZOFFSETTO:-0600
TZNAME:CST
DTSTART:20251102T070000
END:STANDARD
END:VTIMEZONE
BEGIN:VEVENT
DTSTART;VALUE=DATE:20240201
DTEND;VALUE=DATE:20240305
DTSTAMP:20260422T174011
CREATED:20240202T004324Z
LAST-MODIFIED:20240202T004324Z
UID:5263-1706745600-1709596799@fredericksburgteaparty.org
SUMMARY:Republican Primary Candidate Events
DESCRIPTION:
URL:https://fredericksburgteaparty.org/event/republican-primary-candidate-events/
END:VEVENT
BEGIN:VEVENT
DTSTART;TZID=America/Chicago:20240301T180000
DTEND;TZID=America/Chicago:20240301T200000
DTSTAMP:20260422T174011
CREATED:20240227T215150Z
LAST-MODIFIED:20240227T215150Z
UID:5358-1709316000-1709323200@fredericksburgteaparty.org
SUMMARY:Wes Virdell in Mason
DESCRIPTION:
URL:https://fredericksburgteaparty.org/event/wes-virdell-in-mason/
END:VEVENT
BEGIN:VEVENT
DTSTART;VALUE=DATE:20240304
DTEND;VALUE=DATE:20240309
DTSTAMP:20260422T174011
CREATED:20240220T190452Z
LAST-MODIFIED:20240220T190452Z
UID:5338-1709510400-1709942399@fredericksburgteaparty.org
SUMMARY:
DESCRIPTION:  \nClick Here to RSVP
URL:https://fredericksburgteaparty.org/event/5338/
END:VEVENT
BEGIN:VEVENT
DTSTART;TZID=America/Chicago:20240306T173000
DTEND;TZID=America/Chicago:20240306T193000
DTSTAMP:20260422T174011
CREATED:20240227T215241Z
LAST-MODIFIED:20240227T215241Z
UID:5361-1709746200-1709753400@fredericksburgteaparty.org
SUMMARY:City of FBG Public Hearing
DESCRIPTION:Wednesday\, March 6th at 5:30 PM \nFredericksburg Public Hearing\nPublic review and comments for the Comprehensive Plan and Parks Master Plan- Planning & Zoning \nAfter many months of updates\, the 10 year plan is ready for citizen review. Topics include greater mix of housing types\, sustainable development and economy\, tree preservation\, EV charge stations & more \nLearn more here and come prepared with feedback for the City \nLaw Enforcement Center\, 1601 E Main St
URL:https://fredericksburgteaparty.org/event/city-of-fbg-public-hearing/
LOCATION:Law Enforcement Center\, 1601 E Main St\, Fredericksburg\, TX\, 78624\, United States
END:VEVENT
BEGIN:VEVENT
DTSTART;TZID=America/Chicago:20240314T180000
DTEND;TZID=America/Chicago:20240314T200000
DTSTAMP:20260422T174011
CREATED:20240215T230512Z
LAST-MODIFIED:20240215T230512Z
UID:5322-1710439200-1710446400@fredericksburgteaparty.org
SUMMARY:FTP's March Monthly Meeting
DESCRIPTION:
URL:https://fredericksburgteaparty.org/event/ftps-march-monthly-meeting/
LOCATION:St. Joseph’s Halle\, 212 W San Antonio St\, Fredericksburg\, TX\, 78624\, United States
END:VEVENT
BEGIN:VEVENT
DTSTART;VALUE=DATE:20240315
DTEND;VALUE=DATE:20240316
DTSTAMP:20260422T174011
CREATED:20240215T230634Z
LAST-MODIFIED:20240215T230634Z
UID:5324-1710460800-1710547199@fredericksburgteaparty.org
SUMMARY:Livestream: Medical Freedom Summit
DESCRIPTION:
URL:https://fredericksburgteaparty.org/event/livestream-medical-freedom-summit/
END:VEVENT
BEGIN:VEVENT
DTSTART;TZID=America/Chicago:20240319T090000
DTEND;TZID=America/Chicago:20240319T110000
DTSTAMP:20260422T174011
CREATED:20240227T215401Z
LAST-MODIFIED:20240227T215401Z
UID:5363-1710838800-1710846000@fredericksburgteaparty.org
SUMMARY:Fredericksburg Public Hearing
DESCRIPTION:Tuesday\, March 19 at 9 AM \nFredericksburg Public Hearing\nPublic review and comments for the Comprehensive Plan and Parks Master Plan- City Council Adoption \nTopics include greater mix of housing types\, sustainable development and economy\, tree preservation\, EV charge stations & more \nLearn more here and come prepared with feedback for the City \nLaw Enforcement Center\, 1601 E Main St
URL:https://fredericksburgteaparty.org/event/fredericksburg-public-hearing/
LOCATION:Law Enforcement Center\, 1601 E Main St\, Fredericksburg\, TX\, 78624\, United States
END:VEVENT
BEGIN:VEVENT
DTSTART;TZID=America/Chicago:20240326T170000
DTEND;TZID=America/Chicago:20240326T190000
DTSTAMP:20260422T174011
CREATED:20240322T225134Z
LAST-MODIFIED:20240322T225134Z
UID:5372-1711472400-1711479600@fredericksburgteaparty.org
SUMMARY:Lara Logan at Hondo's
DESCRIPTION:
URL:https://fredericksburgteaparty.org/event/lara-logan-at-hondos/
END:VEVENT
END:VCALENDAR