BEGIN:VCALENDAR
VERSION:2.0
PRODID:-//Fredericksburg Tea Party - ECPv6.15.20//NONSGML v1.0//EN
CALSCALE:GREGORIAN
METHOD:PUBLISH
X-WR-CALNAME:Fredericksburg Tea Party
X-ORIGINAL-URL:https://fredericksburgteaparty.org
X-WR-CALDESC:Events for Fredericksburg Tea Party
REFRESH-INTERVAL;VALUE=DURATION:PT1H
X-Robots-Tag:noindex
X-PUBLISHED-TTL:PT1H
BEGIN:VTIMEZONE
TZID:America/Chicago
BEGIN:DAYLIGHT
TZOFFSETFROM:-0600
TZOFFSETTO:-0500
TZNAME:CDT
DTSTART:20230312T080000
END:DAYLIGHT
BEGIN:STANDARD
TZOFFSETFROM:-0500
TZOFFSETTO:-0600
TZNAME:CST
DTSTART:20231105T070000
END:STANDARD
BEGIN:DAYLIGHT
TZOFFSETFROM:-0600
TZOFFSETTO:-0500
TZNAME:CDT
DTSTART:20240310T080000
END:DAYLIGHT
BEGIN:STANDARD
TZOFFSETFROM:-0500
TZOFFSETTO:-0600
TZNAME:CST
DTSTART:20241103T070000
END:STANDARD
BEGIN:DAYLIGHT
TZOFFSETFROM:-0600
TZOFFSETTO:-0500
TZNAME:CDT
DTSTART:20250309T080000
END:DAYLIGHT
BEGIN:STANDARD
TZOFFSETFROM:-0500
TZOFFSETTO:-0600
TZNAME:CST
DTSTART:20251102T070000
END:STANDARD
END:VTIMEZONE
BEGIN:VEVENT
DTSTART;VALUE=DATE:20240201
DTEND;VALUE=DATE:20240305
DTSTAMP:20260422T203339
CREATED:20240202T004324Z
LAST-MODIFIED:20240202T004324Z
UID:5263-1706745600-1709596799@fredericksburgteaparty.org
SUMMARY:Republican Primary Candidate Events
DESCRIPTION:
URL:https://fredericksburgteaparty.org/event/republican-primary-candidate-events/
END:VEVENT
BEGIN:VEVENT
DTSTART;TZID=America/Chicago:20240204T120000
DTEND;TZID=America/Chicago:20240204T140000
DTSTAMP:20260422T203339
CREATED:20240202T004608Z
LAST-MODIFIED:20240202T004608Z
UID:5266-1707048000-1707055200@fredericksburgteaparty.org
SUMMARY:Chili Cook Off with Sheriff Candidates
DESCRIPTION:
URL:https://fredericksburgteaparty.org/event/chili-cook-off-with-sheriff-candidates/
END:VEVENT
BEGIN:VEVENT
DTSTART;TZID=America/Chicago:20240206T183000
DTEND;TZID=America/Chicago:20240206T203000
DTSTAMP:20260422T203339
CREATED:20240205T225128Z
LAST-MODIFIED:20240205T225128Z
UID:5299-1707244200-1707251400@fredericksburgteaparty.org
SUMMARY:Kyle Biedermann with Kendall County Tea Party
DESCRIPTION:
URL:https://fredericksburgteaparty.org/event/kyle-biedermann-with-kendall-county-tea-party/
END:VEVENT
BEGIN:VEVENT
DTSTART;TZID=America/Chicago:20240208T180000
DTEND;TZID=America/Chicago:20240208T200000
DTSTAMP:20260422T203339
CREATED:20240202T004743Z
LAST-MODIFIED:20240202T004743Z
UID:5269-1707415200-1707422400@fredericksburgteaparty.org
SUMMARY:FTP "Guns & Roses" Feb Meeting
DESCRIPTION:
URL:https://fredericksburgteaparty.org/event/ftp-guns-roses-feb-meeting/
LOCATION:St. Joseph’s Halle\, 212 W San Antonio St\, Fredericksburg\, TX\, 78624\, United States
END:VEVENT
BEGIN:VEVENT
DTSTART;TZID=America/Chicago:20240215T180000
DTEND;TZID=America/Chicago:20240215T203000
DTSTAMP:20260422T203339
CREATED:20240202T004926Z
LAST-MODIFIED:20240202T004926Z
UID:5271-1708020000-1708029000@fredericksburgteaparty.org
SUMMARY:Kerr County Candidate Forum
DESCRIPTION:
URL:https://fredericksburgteaparty.org/event/kerr-county-candidate-forum/
END:VEVENT
BEGIN:VEVENT
DTSTART;TZID=America/Chicago:20240220T173000
DTEND;TZID=America/Chicago:20240220T193000
DTSTAMP:20260422T203339
CREATED:20240215T230248Z
LAST-MODIFIED:20240215T230248Z
UID:5320-1708450200-1708457400@fredericksburgteaparty.org
SUMMARY:City of FBG Public Information Meeting
DESCRIPTION:Tuesday\, February 20th at 5:30 PM \nFredericksburg Public Information Meeting\nPublic review and comments for the Comprehensive Plan and Parks Master Plan \nLearn more here and come prepared with feedback for the City \nHill Country University Center\, HEB Room
URL:https://fredericksburgteaparty.org/event/city-of-fbg-public-information-meeting/
END:VEVENT
BEGIN:VEVENT
DTSTART;TZID=America/Chicago:20240228T173000
DTEND;TZID=America/Chicago:20240228T190000
DTSTAMP:20260422T203339
CREATED:20240227T215103Z
LAST-MODIFIED:20240227T215103Z
UID:5355-1709141400-1709146800@fredericksburgteaparty.org
SUMMARY:Cross Mountain Candidate Meet & Greet
DESCRIPTION:
URL:https://fredericksburgteaparty.org/event/cross-mountain-candidate-meet-greet/
END:VEVENT
END:VCALENDAR