BEGIN:VCALENDAR
VERSION:2.0
PRODID:-//Fredericksburg Tea Party - ECPv6.15.20//NONSGML v1.0//EN
CALSCALE:GREGORIAN
METHOD:PUBLISH
X-WR-CALNAME:Fredericksburg Tea Party
X-ORIGINAL-URL:https://fredericksburgteaparty.org
X-WR-CALDESC:Events for Fredericksburg Tea Party
REFRESH-INTERVAL;VALUE=DURATION:PT1H
X-Robots-Tag:noindex
X-PUBLISHED-TTL:PT1H
BEGIN:VTIMEZONE
TZID:America/Chicago
BEGIN:DAYLIGHT
TZOFFSETFROM:-0600
TZOFFSETTO:-0500
TZNAME:CDT
DTSTART:20220313T080000
END:DAYLIGHT
BEGIN:STANDARD
TZOFFSETFROM:-0500
TZOFFSETTO:-0600
TZNAME:CST
DTSTART:20221106T070000
END:STANDARD
BEGIN:DAYLIGHT
TZOFFSETFROM:-0600
TZOFFSETTO:-0500
TZNAME:CDT
DTSTART:20230312T080000
END:DAYLIGHT
BEGIN:STANDARD
TZOFFSETFROM:-0500
TZOFFSETTO:-0600
TZNAME:CST
DTSTART:20231105T070000
END:STANDARD
BEGIN:DAYLIGHT
TZOFFSETFROM:-0600
TZOFFSETTO:-0500
TZNAME:CDT
DTSTART:20240310T080000
END:DAYLIGHT
BEGIN:STANDARD
TZOFFSETFROM:-0500
TZOFFSETTO:-0600
TZNAME:CST
DTSTART:20241103T070000
END:STANDARD
END:VTIMEZONE
BEGIN:VEVENT
DTSTART;TZID=America/Chicago:20231003T180000
DTEND;TZID=America/Chicago:20231003T203000
DTSTAMP:20260423T015759
CREATED:20230831T223324Z
LAST-MODIFIED:20230831T223324Z
UID:4968-1696356000-1696365000@fredericksburgteaparty.org
SUMMARY:2023 Wall of Hope Banquet
DESCRIPTION:
URL:https://fredericksburgteaparty.org/event/2023-wall-of-hope-banquet/
END:VEVENT
BEGIN:VEVENT
DTSTART;VALUE=DATE:20231007
DTEND;VALUE=DATE:20231008
DTSTAMP:20260423T015759
CREATED:20230731T183228Z
LAST-MODIFIED:20230731T183228Z
UID:4827-1696636800-1696723199@fredericksburgteaparty.org
SUMMARY:Guntoberfest
DESCRIPTION:
URL:https://fredericksburgteaparty.org/event/guntoberfest/
END:VEVENT
BEGIN:VEVENT
DTSTART;TZID=America/Chicago:20231009T190000
DTEND;TZID=America/Chicago:20231009T210000
DTSTAMP:20260423T015759
CREATED:20231004T203911Z
LAST-MODIFIED:20231004T204347Z
UID:5047-1696878000-1696885200@fredericksburgteaparty.org
SUMMARY:Biblical Citizenship Training Series
DESCRIPTION:
URL:https://fredericksburgteaparty.org/event/biblical-citizenship-training-series/
END:VEVENT
BEGIN:VEVENT
DTSTART;TZID=America/Chicago:20231009T190000
DTEND;TZID=America/Chicago:20231009T210000
DTSTAMP:20260423T015759
CREATED:20231004T203911Z
LAST-MODIFIED:20231004T204347Z
UID:5047-1696878000-1696885200@fredericksburgteaparty.org
SUMMARY:Biblical Citizenship Training Series
DESCRIPTION:
URL:https://fredericksburgteaparty.org/event/biblical-citizenship-training-series/
END:VEVENT
BEGIN:VEVENT
DTSTART;TZID=America/Chicago:20231009T190000
DTEND;TZID=America/Chicago:20231009T210000
DTSTAMP:20260423T015759
CREATED:20231004T203911Z
LAST-MODIFIED:20231004T204347Z
UID:5047-1696878000-1696885200@fredericksburgteaparty.org
SUMMARY:Biblical Citizenship Training Series
DESCRIPTION:
URL:https://fredericksburgteaparty.org/event/biblical-citizenship-training-series/
END:VEVENT
BEGIN:VEVENT
DTSTART;TZID=America/Chicago:20231009T190000
DTEND;TZID=America/Chicago:20231009T210000
DTSTAMP:20260423T015759
CREATED:20231004T203911Z
LAST-MODIFIED:20231004T204347Z
UID:5047-1696878000-1696885200@fredericksburgteaparty.org
SUMMARY:Biblical Citizenship Training Series
DESCRIPTION:
URL:https://fredericksburgteaparty.org/event/biblical-citizenship-training-series/
END:VEVENT
END:VCALENDAR