BEGIN:VCALENDAR
VERSION:2.0
PRODID:-//Fredericksburg Tea Party - ECPv6.15.20//NONSGML v1.0//EN
CALSCALE:GREGORIAN
METHOD:PUBLISH
X-WR-CALNAME:Fredericksburg Tea Party
X-ORIGINAL-URL:https://fredericksburgteaparty.org
X-WR-CALDESC:Events for Fredericksburg Tea Party
REFRESH-INTERVAL;VALUE=DURATION:PT1H
X-Robots-Tag:noindex
X-PUBLISHED-TTL:PT1H
BEGIN:VTIMEZONE
TZID:America/Chicago
BEGIN:DAYLIGHT
TZOFFSETFROM:-0600
TZOFFSETTO:-0500
TZNAME:CDT
DTSTART:20220313T080000
END:DAYLIGHT
BEGIN:STANDARD
TZOFFSETFROM:-0500
TZOFFSETTO:-0600
TZNAME:CST
DTSTART:20221106T070000
END:STANDARD
BEGIN:DAYLIGHT
TZOFFSETFROM:-0600
TZOFFSETTO:-0500
TZNAME:CDT
DTSTART:20230312T080000
END:DAYLIGHT
BEGIN:STANDARD
TZOFFSETFROM:-0500
TZOFFSETTO:-0600
TZNAME:CST
DTSTART:20231105T070000
END:STANDARD
BEGIN:DAYLIGHT
TZOFFSETFROM:-0600
TZOFFSETTO:-0500
TZNAME:CDT
DTSTART:20240310T080000
END:DAYLIGHT
BEGIN:STANDARD
TZOFFSETFROM:-0500
TZOFFSETTO:-0600
TZNAME:CST
DTSTART:20241103T070000
END:STANDARD
END:VTIMEZONE
BEGIN:VEVENT
DTSTART;TZID=America/Chicago:20231125T083000
DTEND;TZID=America/Chicago:20231125T123000
DTSTAMP:20260422T164803
CREATED:20231120T195132Z
LAST-MODIFIED:20231120T195132Z
UID:5151-1700901000-1700915400@fredericksburgteaparty.org
SUMMARY:Turkey Trot for MOM Center
DESCRIPTION:
URL:https://fredericksburgteaparty.org/event/turkey-trot-for-mom-center/
END:VEVENT
BEGIN:VEVENT
DTSTART;TZID=America/Chicago:20231116T180000
DTEND;TZID=America/Chicago:20231116T200000
DTSTAMP:20260422T164803
CREATED:20231111T171747Z
LAST-MODIFIED:20231111T171747Z
UID:5134-1700157600-1700164800@fredericksburgteaparty.org
SUMMARY:Hill Country Preppers November Meeting
DESCRIPTION:Thursday\, November 16th at 6 PM \nHill Country Preppers November Meeting\nGuest Speaker Richard McAlister\, American Red Cross Incident Meteorologist\, will speak on Texas climatology\, seasonal forecast for Nov-Mar\, and winter weather safety \nBuzzie’s BBQ\n213 Schreiner St\, Kerrville\n*food service is not available\, so plan ahead
URL:https://fredericksburgteaparty.org/event/hill-country-preppers-november-meeting/
LOCATION:Buzzie’s BBQ\, 213 Schreiner St\, Kerrville\, TX\, United States
END:VEVENT
BEGIN:VEVENT
DTSTART;TZID=America/Chicago:20231009T190000
DTEND;TZID=America/Chicago:20231009T210000
DTSTAMP:20260422T164803
CREATED:20231004T203911Z
LAST-MODIFIED:20231004T204347Z
UID:5047-1696878000-1696885200@fredericksburgteaparty.org
SUMMARY:Biblical Citizenship Training Series
DESCRIPTION:
URL:https://fredericksburgteaparty.org/event/biblical-citizenship-training-series/
END:VEVENT
BEGIN:VEVENT
DTSTART;VALUE=DATE:20231109
DTEND;VALUE=DATE:20231113
DTSTAMP:20260422T164803
CREATED:20230831T223439Z
LAST-MODIFIED:20230831T223439Z
UID:4971-1699488000-1699833599@fredericksburgteaparty.org
SUMMARY:TEXIT Convention in Waco
DESCRIPTION:The Lone Star State is set to shine even brighter this November as Waco prepares to host TEXITCON 2023\, the largest independence conference ever held in North America. Organized by the Texas Nationalist Movement\, this monumental event promises to be a melting pot of ideas\, strategies\, and visions\, all converging towards a singular goal: the independence and self-determination of Texas. \nDetails HERE
URL:https://fredericksburgteaparty.org/event/texit-convention-in-waco/
END:VEVENT
BEGIN:VEVENT
DTSTART;TZID=America/Chicago:20231009T190000
DTEND;TZID=America/Chicago:20231009T210000
DTSTAMP:20260422T164803
CREATED:20231004T203911Z
LAST-MODIFIED:20231004T204347Z
UID:5047-1696878000-1696885200@fredericksburgteaparty.org
SUMMARY:Biblical Citizenship Training Series
DESCRIPTION:
URL:https://fredericksburgteaparty.org/event/biblical-citizenship-training-series/
END:VEVENT
BEGIN:VEVENT
DTSTART;TZID=America/Chicago:20231009T190000
DTEND;TZID=America/Chicago:20231009T210000
DTSTAMP:20260422T164803
CREATED:20231004T203911Z
LAST-MODIFIED:20231004T204347Z
UID:5047-1696878000-1696885200@fredericksburgteaparty.org
SUMMARY:Biblical Citizenship Training Series
DESCRIPTION:
URL:https://fredericksburgteaparty.org/event/biblical-citizenship-training-series/
END:VEVENT
BEGIN:VEVENT
DTSTART;TZID=America/Chicago:20231009T190000
DTEND;TZID=America/Chicago:20231009T210000
DTSTAMP:20260422T164803
CREATED:20231004T203911Z
LAST-MODIFIED:20231004T204347Z
UID:5047-1696878000-1696885200@fredericksburgteaparty.org
SUMMARY:Biblical Citizenship Training Series
DESCRIPTION:
URL:https://fredericksburgteaparty.org/event/biblical-citizenship-training-series/
END:VEVENT
BEGIN:VEVENT
DTSTART;TZID=America/Chicago:20231009T190000
DTEND;TZID=America/Chicago:20231009T210000
DTSTAMP:20260422T164803
CREATED:20231004T203911Z
LAST-MODIFIED:20231004T204347Z
UID:5047-1696878000-1696885200@fredericksburgteaparty.org
SUMMARY:Biblical Citizenship Training Series
DESCRIPTION:
URL:https://fredericksburgteaparty.org/event/biblical-citizenship-training-series/
END:VEVENT
BEGIN:VEVENT
DTSTART;TZID=America/Chicago:20231009T190000
DTEND;TZID=America/Chicago:20231009T210000
DTSTAMP:20260422T164803
CREATED:20231004T203911Z
LAST-MODIFIED:20231004T204347Z
UID:5047-1696878000-1696885200@fredericksburgteaparty.org
SUMMARY:Biblical Citizenship Training Series
DESCRIPTION:
URL:https://fredericksburgteaparty.org/event/biblical-citizenship-training-series/
END:VEVENT
BEGIN:VEVENT
DTSTART;VALUE=DATE:20231007
DTEND;VALUE=DATE:20231008
DTSTAMP:20260422T164803
CREATED:20230731T183228Z
LAST-MODIFIED:20230731T183228Z
UID:4827-1696636800-1696723199@fredericksburgteaparty.org
SUMMARY:Guntoberfest
DESCRIPTION:
URL:https://fredericksburgteaparty.org/event/guntoberfest/
END:VEVENT
BEGIN:VEVENT
DTSTART;TZID=America/Chicago:20231003T180000
DTEND;TZID=America/Chicago:20231003T203000
DTSTAMP:20260422T164803
CREATED:20230831T223324Z
LAST-MODIFIED:20230831T223324Z
UID:4968-1696356000-1696365000@fredericksburgteaparty.org
SUMMARY:2023 Wall of Hope Banquet
DESCRIPTION:
URL:https://fredericksburgteaparty.org/event/2023-wall-of-hope-banquet/
END:VEVENT
BEGIN:VEVENT
DTSTART;TZID=America/Chicago:20230922T160000
DTEND;TZID=America/Chicago:20230922T220000
DTSTAMP:20260422T164803
CREATED:20230422T153405Z
LAST-MODIFIED:20230731T182813Z
UID:4277-1695398400-1695420000@fredericksburgteaparty.org
SUMMARY:FTP's Annual Boots & BBQ with Charlie Kirk
DESCRIPTION:TICKETS AVAILABLE HERE\n 
URL:https://fredericksburgteaparty.org/event/ftps-annual-boots-bbq/
END:VEVENT
BEGIN:VEVENT
DTSTART;VALUE=DATE:20230921
DTEND;VALUE=DATE:20230924
DTSTAMP:20260422T164803
CREATED:20230613T210925Z
LAST-MODIFIED:20230613T210925Z
UID:4534-1695254400-1695513599@fredericksburgteaparty.org
SUMMARY:Stop 30x30 Summit
DESCRIPTION:Details here
URL:https://fredericksburgteaparty.org/event/stop-30x30-summit/
END:VEVENT
BEGIN:VEVENT
DTSTART;TZID=America/Chicago:20230917T180000
DTEND;TZID=America/Chicago:20230917T200000
DTSTAMP:20260422T164803
CREATED:20230831T223102Z
LAST-MODIFIED:20230831T223102Z
UID:4965-1694973600-1694980800@fredericksburgteaparty.org
SUMMARY:Comedy\, Constitution & Revival
DESCRIPTION:
URL:https://fredericksburgteaparty.org/event/comedy-constitution-revival/
END:VEVENT
BEGIN:VEVENT
DTSTART;VALUE=DATE:20230915
DTEND;VALUE=DATE:20230917
DTSTAMP:20260422T164803
CREATED:20230831T222812Z
LAST-MODIFIED:20230831T222812Z
UID:4962-1694736000-1694908799@fredericksburgteaparty.org
SUMMARY:TX Faith\, Family & Freedom Forum
DESCRIPTION:
URL:https://fredericksburgteaparty.org/event/tx-faith-family-freedom-forum/
END:VEVENT
BEGIN:VEVENT
DTSTART;TZID=America/Chicago:20230914T180000
DTEND;TZID=America/Chicago:20230914T200000
DTSTAMP:20260422T164803
CREATED:20230831T222545Z
LAST-MODIFIED:20230831T222545Z
UID:4959-1694714400-1694721600@fredericksburgteaparty.org
SUMMARY:Texas Scorecard Panel in FBG
DESCRIPTION:
URL:https://fredericksburgteaparty.org/event/texas-scorecard-panel-in-fbg/
LOCATION:St. Joseph’s Halle\, 212 W San Antonio St\, Fredericksburg\, TX\, 78624\, United States
END:VEVENT
BEGIN:VEVENT
DTSTART;TZID=America/Chicago:20230909T183000
DTEND;TZID=America/Chicago:20230909T203000
DTSTAMP:20260422T164803
CREATED:20230812T155232Z
LAST-MODIFIED:20230812T155232Z
UID:4860-1694284200-1694291400@fredericksburgteaparty.org
SUMMARY:Seth Keshel with Kimble County Republicans
DESCRIPTION:
URL:https://fredericksburgteaparty.org/event/seth-keshel-with-kimble-county-republicans/
END:VEVENT
BEGIN:VEVENT
DTSTART;TZID=America/Chicago:20230824T173000
DTEND;TZID=America/Chicago:20230824T193000
DTSTAMP:20260422T164803
CREATED:20230812T155056Z
LAST-MODIFIED:20230812T155056Z
UID:4857-1692898200-1692905400@fredericksburgteaparty.org
SUMMARY:Moms for Liberty Back to School Event with Chip Roy
DESCRIPTION:
URL:https://fredericksburgteaparty.org/event/moms-for-liberty-back-to-school-event-with-chip-roy/
END:VEVENT
BEGIN:VEVENT
DTSTART;TZID=America/Chicago:20230822T130000
DTEND;TZID=America/Chicago:20230822T170000
DTSTAMP:20260422T164803
CREATED:20230812T154900Z
LAST-MODIFIED:20230812T154900Z
UID:4854-1692709200-1692723600@fredericksburgteaparty.org
SUMMARY:Election Integrity Town Hall
DESCRIPTION:
URL:https://fredericksburgteaparty.org/event/election-integrity-town-hall/
END:VEVENT
BEGIN:VEVENT
DTSTART;TZID=America/Chicago:20230821T130000
DTEND;TZID=America/Chicago:20230821T150000
DTSTAMP:20260422T164803
CREATED:20230731T183129Z
LAST-MODIFIED:20230731T183129Z
UID:4825-1692622800-1692630000@fredericksburgteaparty.org
SUMMARY:Fredericksburg City Council Budget & Tax Rate Public Hearing
DESCRIPTION:Fredericksburg City Council Budget & Tax Rate Public Hearing\nThe larger the budget\, the more taxes must be increased- this is your chance to share your opinion \nLady Bird Johnson Golf Course\, Cardinal Room\n341 Golfers Loop\, Fredericksburg
URL:https://fredericksburgteaparty.org/event/fredericksburg-city-council-budget-tax-rate-public-hearing/
END:VEVENT
BEGIN:VEVENT
DTSTART;TZID=America/Chicago:20230819T180000
DTEND;TZID=America/Chicago:20230819T200000
DTSTAMP:20260422T164803
CREATED:20230515T190457Z
LAST-MODIFIED:20230515T190457Z
UID:4392-1692468000-1692475200@fredericksburgteaparty.org
SUMMARY:Fredericksburg Dance Hall Nights
DESCRIPTION:Fredericksburg Dance Hall Nights\nEveryone is invited to come and enjoy a free evening with music by The Bill Smallwood Band \nBring your own drinks & chairs \nMarktplatz\, Fredericksburg
URL:https://fredericksburgteaparty.org/event/fredericksburg-dance-hall-nights-2/
LOCATION:Marktplatz\, 126 W Main St\, Fredericksburg\, TX\, 78624\, United States
END:VEVENT
BEGIN:VEVENT
DTSTART;TZID=America/Chicago:20230819T140000
DTEND;TZID=America/Chicago:20230819T160000
DTSTAMP:20260422T164803
CREATED:20230731T182944Z
LAST-MODIFIED:20230731T182944Z
UID:4822-1692453600-1692460800@fredericksburgteaparty.org
SUMMARY:American Patriot Relief Event
DESCRIPTION:
URL:https://fredericksburgteaparty.org/event/american-patriot-relief-event/
END:VEVENT
BEGIN:VEVENT
DTSTART;TZID=America/Chicago:20230816T173000
DTEND;TZID=America/Chicago:20230816T193000
DTSTAMP:20260422T164803
CREATED:20230731T182457Z
LAST-MODIFIED:20230731T182457Z
UID:4816-1692207000-1692214200@fredericksburgteaparty.org
SUMMARY:FISD Grievance Hearing
DESCRIPTION:
URL:https://fredericksburgteaparty.org/event/fisd-grievance-hearing/
LOCATION:Main Bldg\, 234 Friendship Ln\, Fredericksburg\, TX\, 78671\, United States
END:VEVENT
BEGIN:VEVENT
DTSTART;TZID=America/Chicago:20230815T180000
DTEND;TZID=America/Chicago:20230815T200000
DTSTAMP:20260422T164803
CREATED:20230812T154636Z
LAST-MODIFIED:20230812T154636Z
UID:4851-1692122400-1692129600@fredericksburgteaparty.org
SUMMARY:TNM in Llano
DESCRIPTION:
URL:https://fredericksburgteaparty.org/event/tnm-in-llano/
END:VEVENT
BEGIN:VEVENT
DTSTART;TZID=America/Chicago:20230810T180000
DTEND;TZID=America/Chicago:20230810T200000
DTSTAMP:20260422T164803
CREATED:20230731T182359Z
LAST-MODIFIED:20230731T182359Z
UID:4814-1691690400-1691697600@fredericksburgteaparty.org
SUMMARY:FTP August Meeting
DESCRIPTION:
URL:https://fredericksburgteaparty.org/event/ftp-august-meeting/
LOCATION:St. Joseph’s Halle\, 212 W San Antonio St\, Fredericksburg\, TX\, 78624\, United States
END:VEVENT
BEGIN:VEVENT
DTSTART;TZID=America/Chicago:20230808T190000
DTEND;TZID=America/Chicago:20230808T210000
DTSTAMP:20260422T164803
CREATED:20230731T182247Z
LAST-MODIFIED:20230731T182247Z
UID:4811-1691521200-1691528400@fredericksburgteaparty.org
SUMMARY:Prayer Night for the New School Year
DESCRIPTION:
URL:https://fredericksburgteaparty.org/event/prayer-night-for-the-new-school-year/
END:VEVENT
BEGIN:VEVENT
DTSTART;TZID=America/Chicago:20230724T180000
DTEND;TZID=America/Chicago:20230724T200000
DTSTAMP:20260422T164803
CREATED:20230703T181934Z
LAST-MODIFIED:20230703T181934Z
UID:4629-1690221600-1690228800@fredericksburgteaparty.org
SUMMARY:Christian Chamber of Texas Meeting
DESCRIPTION:Monday\, July 24th at 6PM \nChristian Chamber of Texas Meeting\nAre you a business owner? Could you benefit from guidance on how to run your business in partnership with the kingdom of Christ? Join us to learn more and get to know other local business owners \nBCFS/Health & Human Services Bldg\n1127 E Main St\, Kerrville \nQuestions? Contact Howard at 714-401-8813
URL:https://fredericksburgteaparty.org/event/christian-chamber-of-texas-meeting/
END:VEVENT
BEGIN:VEVENT
DTSTART;TZID=America/Chicago:20230723T180000
DTEND;TZID=America/Chicago:20230723T210000
DTSTAMP:20260422T164803
CREATED:20230710T220807Z
LAST-MODIFIED:20230710T220807Z
UID:4676-1690135200-1690146000@fredericksburgteaparty.org
SUMMARY:Hand Count Road Show
DESCRIPTION:
URL:https://fredericksburgteaparty.org/event/hand-count-road-show/
LOCATION:St. Joseph’s Halle\, 212 W San Antonio St\, Fredericksburg\, TX\, 78624\, United States
END:VEVENT
BEGIN:VEVENT
DTSTART;TZID=America/Chicago:20230720T180000
DTEND;TZID=America/Chicago:20230720T200000
DTSTAMP:20260422T164803
CREATED:20230710T220627Z
LAST-MODIFIED:20230710T220627Z
UID:4674-1689876000-1689883200@fredericksburgteaparty.org
SUMMARY:Hill Country Preppers Meeting
DESCRIPTION:Thursday\, July 20th at 6 PM \nHill Country Preppers Meeting\nLearn how rainwater catchment systems can harvest up to 600 gallons from just 1/4 inch rain \nBuzzie’s BBQ\n213 Schreiner St\, Kerrville
URL:https://fredericksburgteaparty.org/event/hill-country-preppers-meeting-4/
LOCATION:Buzzie’s BBQ\, 213 Schreiner St\, Kerrville\, TX\, United States
END:VEVENT
BEGIN:VEVENT
DTSTART;TZID=America/Chicago:20230718T180000
DTEND;TZID=America/Chicago:20230718T200000
DTSTAMP:20260422T164803
CREATED:20230717T174949Z
LAST-MODIFIED:20230717T174949Z
UID:4729-1689703200-1689710400@fredericksburgteaparty.org
SUMMARY:Llano: TEXIT Meet Up
DESCRIPTION:Heads up! The Llano group of the Texas Nationalist Movement will be hosting a meetup on Tuesday\, July 18th @ 6:00 PM. \nThey will be meeting at the Trailblazer Grille in Llano and would ove to have you there to help show support for efforts to get and win a vote on TEXIT. \nClick here for full details and to RSVP.
URL:https://fredericksburgteaparty.org/event/llano-texit-meet-up/
END:VEVENT
END:VCALENDAR