BEGIN:VCALENDAR
VERSION:2.0
PRODID:-//Fredericksburg Tea Party - ECPv6.15.20//NONSGML v1.0//EN
CALSCALE:GREGORIAN
METHOD:PUBLISH
X-WR-CALNAME:Fredericksburg Tea Party
X-ORIGINAL-URL:https://fredericksburgteaparty.org
X-WR-CALDESC:Events for Fredericksburg Tea Party
REFRESH-INTERVAL;VALUE=DURATION:PT1H
X-Robots-Tag:noindex
X-PUBLISHED-TTL:PT1H
BEGIN:VTIMEZONE
TZID:America/Chicago
BEGIN:DAYLIGHT
TZOFFSETFROM:-0600
TZOFFSETTO:-0500
TZNAME:CDT
DTSTART:20250309T080000
END:DAYLIGHT
BEGIN:STANDARD
TZOFFSETFROM:-0500
TZOFFSETTO:-0600
TZNAME:CST
DTSTART:20251102T070000
END:STANDARD
BEGIN:DAYLIGHT
TZOFFSETFROM:-0600
TZOFFSETTO:-0500
TZNAME:CDT
DTSTART:20260308T080000
END:DAYLIGHT
BEGIN:STANDARD
TZOFFSETFROM:-0500
TZOFFSETTO:-0600
TZNAME:CST
DTSTART:20261101T070000
END:STANDARD
BEGIN:DAYLIGHT
TZOFFSETFROM:-0600
TZOFFSETTO:-0500
TZNAME:CDT
DTSTART:20270314T080000
END:DAYLIGHT
BEGIN:STANDARD
TZOFFSETFROM:-0500
TZOFFSETTO:-0600
TZNAME:CST
DTSTART:20271107T070000
END:STANDARD
END:VTIMEZONE
BEGIN:VEVENT
DTSTART;VALUE=DATE:20260316
DTEND;VALUE=DATE:20260320
DTSTAMP:20260421T192226
CREATED:20260209T223455Z
LAST-MODIFIED:20260209T223455Z
UID:6542-1773619200-1773964799@fredericksburgteaparty.org
SUMMARY:Vacation Liberty School for Kids
DESCRIPTION:
URL:https://fredericksburgteaparty.org/event/vacation-liberty-school-for-kids/
END:VEVENT
BEGIN:VEVENT
DTSTART;TZID=America/Chicago:20260319T180000
DTEND;TZID=America/Chicago:20260319T200000
DTSTAMP:20260421T192226
CREATED:20260309T183221Z
LAST-MODIFIED:20260309T183221Z
UID:6626-1773943200-1773950400@fredericksburgteaparty.org
SUMMARY:Hill Country Preppers Meeting
DESCRIPTION:Thursday\, March 19th at 6 PM \nGuest speaker Dave Murdock to educate on the “gray man; hiding in plain sight” \n213 Schreiner St\nLa Tapatia food truck will serve from 5:00 to 6:00 pm
URL:https://fredericksburgteaparty.org/event/hill-country-preppers-meeting-13/
END:VEVENT
BEGIN:VEVENT
DTSTART;TZID=America/Chicago:20260409T180000
DTEND;TZID=America/Chicago:20260409T200000
DTSTAMP:20260421T192226
CREATED:20260330T200707Z
LAST-MODIFIED:20260330T200707Z
UID:6656-1775757600-1775764800@fredericksburgteaparty.org
SUMMARY:FTP's April Meeting
DESCRIPTION:
URL:https://fredericksburgteaparty.org/event/ftps-april-meeting/
END:VEVENT
BEGIN:VEVENT
DTSTART;TZID=America/Chicago:20260424T180000
DTEND;TZID=America/Chicago:20260424T200000
DTSTAMP:20260421T192226
CREATED:20260209T223542Z
LAST-MODIFIED:20260209T223542Z
UID:6544-1777053600-1777060800@fredericksburgteaparty.org
SUMMARY:Braveheart Gala
DESCRIPTION:
URL:https://fredericksburgteaparty.org/event/braveheart-gala/
END:VEVENT
BEGIN:VEVENT
DTSTART;VALUE=DATE:20260425
DTEND;VALUE=DATE:20260426
DTSTAMP:20260421T192226
CREATED:20251019T212214Z
LAST-MODIFIED:20251019T212214Z
UID:6318-1777075200-1777161599@fredericksburgteaparty.org
SUMMARY:TX Freedom Summit
DESCRIPTION:
URL:https://fredericksburgteaparty.org/event/tx-freedom-summit/
END:VEVENT
BEGIN:VEVENT
DTSTART;VALUE=DATE:20260425
DTEND;VALUE=DATE:20260426
DTSTAMP:20260421T192226
CREATED:20251110T221622Z
LAST-MODIFIED:20251110T221622Z
UID:6371-1777075200-1777161599@fredericksburgteaparty.org
SUMMARY:Texas Freedom Summit
DESCRIPTION:
URL:https://fredericksburgteaparty.org/event/texas-freedom-summit/
END:VEVENT
END:VCALENDAR