BEGIN:VCALENDAR
VERSION:2.0
PRODID:-//Fredericksburg Tea Party - ECPv6.15.20//NONSGML v1.0//EN
CALSCALE:GREGORIAN
METHOD:PUBLISH
X-WR-CALNAME:Fredericksburg Tea Party
X-ORIGINAL-URL:https://fredericksburgteaparty.org
X-WR-CALDESC:Events for Fredericksburg Tea Party
REFRESH-INTERVAL;VALUE=DURATION:PT1H
X-Robots-Tag:noindex
X-PUBLISHED-TTL:PT1H
BEGIN:VTIMEZONE
TZID:America/Chicago
BEGIN:DAYLIGHT
TZOFFSETFROM:-0600
TZOFFSETTO:-0500
TZNAME:CDT
DTSTART:20220313T080000
END:DAYLIGHT
BEGIN:STANDARD
TZOFFSETFROM:-0500
TZOFFSETTO:-0600
TZNAME:CST
DTSTART:20221106T070000
END:STANDARD
BEGIN:DAYLIGHT
TZOFFSETFROM:-0600
TZOFFSETTO:-0500
TZNAME:CDT
DTSTART:20230312T080000
END:DAYLIGHT
BEGIN:STANDARD
TZOFFSETFROM:-0500
TZOFFSETTO:-0600
TZNAME:CST
DTSTART:20231105T070000
END:STANDARD
BEGIN:DAYLIGHT
TZOFFSETFROM:-0600
TZOFFSETTO:-0500
TZNAME:CDT
DTSTART:20240310T080000
END:DAYLIGHT
BEGIN:STANDARD
TZOFFSETFROM:-0500
TZOFFSETTO:-0600
TZNAME:CST
DTSTART:20241103T070000
END:STANDARD
END:VTIMEZONE
BEGIN:VEVENT
DTSTART;TZID=America/Chicago:20230426T100000
DTEND;TZID=America/Chicago:20230426T140000
DTSTAMP:20260422T175824
CREATED:20230422T151746Z
LAST-MODIFIED:20230422T151913Z
UID:4265-1682503200-1682517600@fredericksburgteaparty.org
SUMMARY:GOA Gun Owners Lobby Day
DESCRIPTION:
URL:https://fredericksburgteaparty.org/event/goa-gun-owners-lobby-day/
END:VEVENT
BEGIN:VEVENT
DTSTART;TZID=America/Chicago:20230117T180000
DTEND;TZID=America/Chicago:20230117T200000
DTSTAMP:20260422T175824
CREATED:20230117T191608Z
LAST-MODIFIED:20230130T233606Z
UID:3610-1673978400-1673985600@fredericksburgteaparty.org
SUMMARY:Weekly Capitol Prayer Service
DESCRIPTION:
URL:https://fredericksburgteaparty.org/event/weekly-capitol-prayer-service-kick-off/
LOCATION:Texas Capitol\, 1100 Congress Ave\, Austin\, TX\, United States
END:VEVENT
BEGIN:VEVENT
DTSTART;VALUE=DATE:20230423
DTEND;VALUE=DATE:20230424
DTSTAMP:20260422T175824
CREATED:20230214T190853Z
LAST-MODIFIED:20230214T190853Z
UID:3887-1682208000-1682294399@fredericksburgteaparty.org
SUMMARY:Patriot Academy's Constitutional Defense Class
DESCRIPTION:First time at the new Fredericksburg TX campus! \nEvent detail here
URL:https://fredericksburgteaparty.org/event/patriot-academys-constitutional-defense-class/
END:VEVENT
BEGIN:VEVENT
DTSTART;TZID=America/Chicago:20230422T180000
DTEND;TZID=America/Chicago:20230422T200000
DTSTAMP:20260422T175824
CREATED:20230404T154545Z
LAST-MODIFIED:20230404T154545Z
UID:4203-1682186400-1682193600@fredericksburgteaparty.org
SUMMARY:Mason County Republican Party Fundraiser
DESCRIPTION:
URL:https://fredericksburgteaparty.org/event/mason-county-republican-party-fundraiser/
END:VEVENT
BEGIN:VEVENT
DTSTART;TZID=America/Chicago:20230422T140000
DTEND;TZID=America/Chicago:20230422T170000
DTSTAMP:20260422T175824
CREATED:20230306T230333Z
LAST-MODIFIED:20230314T192248Z
UID:4027-1682172000-1682182800@fredericksburgteaparty.org
SUMMARY:Patriot Academy Groundbreaking Event
DESCRIPTION:
URL:https://fredericksburgteaparty.org/event/patriot-academy-groundbreaking-event/
END:VEVENT
BEGIN:VEVENT
DTSTART;TZID=America/Chicago:20230422T080000
DTEND;TZID=America/Chicago:20230422T170000
DTSTAMP:20260422T175824
CREATED:20230306T230235Z
LAST-MODIFIED:20230306T230818Z
UID:4024-1682150400-1682182800@fredericksburgteaparty.org
SUMMARY:TPUSA & Let Us Worship at TX Capitol
DESCRIPTION:
URL:https://fredericksburgteaparty.org/event/tpusa-let-us-worship-at-tx-capitol/
LOCATION:Texas Capitol\, 1100 Congress Ave\, Austin\, TX\, United States
END:VEVENT
BEGIN:VEVENT
DTSTART;TZID=America/Chicago:20230422T080000
DTEND;TZID=America/Chicago:20230422T170000
DTSTAMP:20260422T175824
CREATED:20230214T190459Z
LAST-MODIFIED:20230214T190459Z
UID:3883-1682150400-1682182800@fredericksburgteaparty.org
SUMMARY:"Life" is Good 5K & 10K
DESCRIPTION:Event details here
URL:https://fredericksburgteaparty.org/event/life-is-good-5k-10k/
LOCATION:River City Community Church\, 16765 Lookout Rd\, Selma\, TX\, United States
END:VEVENT
BEGIN:VEVENT
DTSTART;TZID=America/Chicago:20230420T180000
DTEND;TZID=America/Chicago:20230420T200000
DTSTAMP:20260422T175824
CREATED:20230414T174331Z
LAST-MODIFIED:20230414T174345Z
UID:4237-1682013600-1682020800@fredericksburgteaparty.org
SUMMARY:Hill Country Preppers Meeting
DESCRIPTION:Thursday\, April 20th at 6PM \nHill Country Preppers Monthly Meeting\n911 Emergency Call System: the past\, present\, and future \nBuzzie’s BBQ\n213 Schreiner St\, Kerrville
URL:https://fredericksburgteaparty.org/event/hill-country-preppers-meeting-2/
LOCATION:Buzzie’s BBQ\, 213 Schreiner St\, Kerrville\, TX\, United States
END:VEVENT
BEGIN:VEVENT
DTSTART;TZID=America/Chicago:20230117T180000
DTEND;TZID=America/Chicago:20230117T200000
DTSTAMP:20260422T175824
CREATED:20230117T191608Z
LAST-MODIFIED:20230130T233606Z
UID:3610-1673978400-1673985600@fredericksburgteaparty.org
SUMMARY:Weekly Capitol Prayer Service
DESCRIPTION:
URL:https://fredericksburgteaparty.org/event/weekly-capitol-prayer-service-kick-off/
LOCATION:Texas Capitol\, 1100 Congress Ave\, Austin\, TX\, United States
END:VEVENT
BEGIN:VEVENT
DTSTART;TZID=America/Chicago:20230418T170000
DTEND;TZID=America/Chicago:20230418T190000
DTSTAMP:20260422T175824
CREATED:20230327T225843Z
LAST-MODIFIED:20230327T225843Z
UID:4183-1681837200-1681844400@fredericksburgteaparty.org
SUMMARY:Meet & Greet: Dennis McCanless for FISD School Board
DESCRIPTION:
URL:https://fredericksburgteaparty.org/event/meet-greet-dennis-mccanless-for-fisd-school-board/
LOCATION:Western Edge\, 228 Main St\, Fredericksburg\, TX\, United States
END:VEVENT
BEGIN:VEVENT
DTSTART;TZID=America/Chicago:20230413T183000
DTEND;TZID=America/Chicago:20230413T203000
DTSTAMP:20260422T175824
CREATED:20230306T230050Z
LAST-MODIFIED:20230314T192357Z
UID:4021-1681410600-1681417800@fredericksburgteaparty.org
SUMMARY:Terry Schilling of American Principles Project
DESCRIPTION:
URL:https://fredericksburgteaparty.org/event/ftp-april-meeting-with-terry-schilling/
LOCATION:St. Joseph’s Halle\, 212 W San Antonio St\, Fredericksburg\, TX\, 78624\, United States
END:VEVENT
BEGIN:VEVENT
DTSTART;TZID=America/Chicago:20230412T120000
DTEND;TZID=America/Chicago:20230412T130000
DTSTAMP:20260422T175824
CREATED:20230404T154341Z
LAST-MODIFIED:20230404T154341Z
UID:4200-1681300800-1681304400@fredericksburgteaparty.org
SUMMARY:Luncheon with Chip Roy
DESCRIPTION:
URL:https://fredericksburgteaparty.org/event/luncheon-with-chip-roy/
END:VEVENT
BEGIN:VEVENT
DTSTART;TZID=America/Chicago:20230117T180000
DTEND;TZID=America/Chicago:20230117T200000
DTSTAMP:20260422T175824
CREATED:20230117T191608Z
LAST-MODIFIED:20230130T233606Z
UID:3610-1673978400-1673985600@fredericksburgteaparty.org
SUMMARY:Weekly Capitol Prayer Service
DESCRIPTION:
URL:https://fredericksburgteaparty.org/event/weekly-capitol-prayer-service-kick-off/
LOCATION:Texas Capitol\, 1100 Congress Ave\, Austin\, TX\, United States
END:VEVENT
BEGIN:VEVENT
DTSTART;TZID=America/Chicago:20230410T180000
DTEND;TZID=America/Chicago:20230410T200000
DTSTAMP:20260422T175824
CREATED:20230327T225625Z
LAST-MODIFIED:20230327T225625Z
UID:4180-1681149600-1681156800@fredericksburgteaparty.org
SUMMARY:Moms for Liberty: Mental Health 101
DESCRIPTION:
URL:https://fredericksburgteaparty.org/event/moms-for-liberty-mental-health-101/
LOCATION:St. Joseph’s Halle\, 212 W San Antonio St\, Fredericksburg\, TX\, 78624\, United States
END:VEVENT
BEGIN:VEVENT
DTSTART;TZID=America/Chicago:20230117T180000
DTEND;TZID=America/Chicago:20230117T200000
DTSTAMP:20260422T175824
CREATED:20230117T191608Z
LAST-MODIFIED:20230130T233606Z
UID:3610-1673978400-1673985600@fredericksburgteaparty.org
SUMMARY:Weekly Capitol Prayer Service
DESCRIPTION:
URL:https://fredericksburgteaparty.org/event/weekly-capitol-prayer-service-kick-off/
LOCATION:Texas Capitol\, 1100 Congress Ave\, Austin\, TX\, United States
END:VEVENT
BEGIN:VEVENT
DTSTART;TZID=America/Chicago:20230328T180000
DTEND;TZID=America/Chicago:20230328T200000
DTSTAMP:20260422T175824
CREATED:20230327T225517Z
LAST-MODIFIED:20230327T225517Z
UID:4178-1680026400-1680033600@fredericksburgteaparty.org
SUMMARY:Training: Prepare for a Hill Country Emergency
DESCRIPTION:Tuesday\, March 28th at 6 PM \nPrepare for a Hill Country Emergency\nIn-person training \nRegister here \nDietert Center\, Room K\n451 Guadalupe St\, Kerrville
URL:https://fredericksburgteaparty.org/event/training-prepare-for-a-hill-country-emergency/
END:VEVENT
BEGIN:VEVENT
DTSTART;TZID=America/Chicago:20230328T180000
DTEND;TZID=America/Chicago:20230328T200000
DTSTAMP:20260422T175824
CREATED:20230327T225211Z
LAST-MODIFIED:20230327T225211Z
UID:4176-1680026400-1680033600@fredericksburgteaparty.org
SUMMARY:Empowering Young Conservatives
DESCRIPTION:Tuesday\, March 28th at 6 PM \nEmpowering Young Conservatives with Blanco County Republican Women\nPanel discussions on women’s role in the political process and being a conservative student on campus \nProof & Cooper\nJohnson City\, Texas
URL:https://fredericksburgteaparty.org/event/empowering-young-conservatives/
END:VEVENT
BEGIN:VEVENT
DTSTART;TZID=America/Chicago:20230117T180000
DTEND;TZID=America/Chicago:20230117T200000
DTSTAMP:20260422T175824
CREATED:20230117T191608Z
LAST-MODIFIED:20230130T233606Z
UID:3610-1673978400-1673985600@fredericksburgteaparty.org
SUMMARY:Weekly Capitol Prayer Service
DESCRIPTION:
URL:https://fredericksburgteaparty.org/event/weekly-capitol-prayer-service-kick-off/
LOCATION:Texas Capitol\, 1100 Congress Ave\, Austin\, TX\, United States
END:VEVENT
BEGIN:VEVENT
DTSTART;TZID=America/Chicago:20230326T100000
DTEND;TZID=America/Chicago:20230326T140000
DTSTAMP:20260422T175824
CREATED:20230321T190300Z
LAST-MODIFIED:20230321T190300Z
UID:4125-1679824800-1679839200@fredericksburgteaparty.org
SUMMARY:GOA TX 2nd Amendment Day at the Capitol
DESCRIPTION:
URL:https://fredericksburgteaparty.org/event/goa-tx-2nd-amendment-day-at-the-capitol/
LOCATION:Texas Capitol\, 1100 Congress Ave\, Austin\, TX\, United States
END:VEVENT
BEGIN:VEVENT
DTSTART;TZID=America/Chicago:20230324T190000
DTEND;TZID=America/Chicago:20230324T210000
DTSTAMP:20260422T175824
CREATED:20230321T190129Z
LAST-MODIFIED:20230321T190129Z
UID:4122-1679684400-1679691600@fredericksburgteaparty.org
SUMMARY:Christ Our Hope In Life & Death
DESCRIPTION:Event details HERE
URL:https://fredericksburgteaparty.org/event/christ-our-hope-in-life-death/
END:VEVENT
BEGIN:VEVENT
DTSTART;VALUE=DATE:20230322
DTEND;VALUE=DATE:20230323
DTSTAMP:20260422T175824
CREATED:20230321T185952Z
LAST-MODIFIED:20230321T185952Z
UID:4119-1679443200-1679529599@fredericksburgteaparty.org
SUMMARY:TFVC Citizen Engagement Day
DESCRIPTION:Event details HERE
URL:https://fredericksburgteaparty.org/event/tfvc-citizen-engagement-day/
LOCATION:Texas Capitol\, 1100 Congress Ave\, Austin\, TX\, United States
END:VEVENT
BEGIN:VEVENT
DTSTART;TZID=America/Chicago:20230321T183000
DTEND;TZID=America/Chicago:20230321T203000
DTSTAMP:20260422T175824
CREATED:20230321T185659Z
LAST-MODIFIED:20230321T185659Z
UID:4116-1679423400-1679430600@fredericksburgteaparty.org
SUMMARY:Election Integrity Panel & Hacking Demo
DESCRIPTION:
URL:https://fredericksburgteaparty.org/event/election-integrity-panel-hacking-demo/
LOCATION:St. Joseph’s Halle\, 212 W San Antonio St\, Fredericksburg\, TX\, 78624\, United States
END:VEVENT
BEGIN:VEVENT
DTSTART;TZID=America/Chicago:20230117T180000
DTEND;TZID=America/Chicago:20230117T200000
DTSTAMP:20260422T175824
CREATED:20230117T191608Z
LAST-MODIFIED:20230130T233606Z
UID:3610-1673978400-1673985600@fredericksburgteaparty.org
SUMMARY:Weekly Capitol Prayer Service
DESCRIPTION:
URL:https://fredericksburgteaparty.org/event/weekly-capitol-prayer-service-kick-off/
LOCATION:Texas Capitol\, 1100 Congress Ave\, Austin\, TX\, United States
END:VEVENT
BEGIN:VEVENT
DTSTART;TZID=America/Chicago:20230316T180000
DTEND;TZID=America/Chicago:20230316T200000
DTSTAMP:20260422T175824
CREATED:20230306T225909Z
LAST-MODIFIED:20230306T225909Z
UID:4019-1678989600-1678996800@fredericksburgteaparty.org
SUMMARY:Hill Country Preppers March Meeting
DESCRIPTION:Thursday\, March 16th at 6 PM \nSurviving & Escaping a Nuclear Event\nLearn what to do in case of an EMP attack\, nuclear plant accident\, or warhead detonation \nBuzzie’s BBQ\n213 Schreiner St\, Kerrville
URL:https://fredericksburgteaparty.org/event/hill-country-preppers-march-meeting/
LOCATION:Buzzie’s BBQ\, 213 Schreiner St\, Kerrville\, TX\, United States
END:VEVENT
BEGIN:VEVENT
DTSTART;TZID=America/Chicago:20230117T180000
DTEND;TZID=America/Chicago:20230117T200000
DTSTAMP:20260422T175824
CREATED:20230117T191608Z
LAST-MODIFIED:20230130T233606Z
UID:3610-1673978400-1673985600@fredericksburgteaparty.org
SUMMARY:Weekly Capitol Prayer Service
DESCRIPTION:
URL:https://fredericksburgteaparty.org/event/weekly-capitol-prayer-service-kick-off/
LOCATION:Texas Capitol\, 1100 Congress Ave\, Austin\, TX\, United States
END:VEVENT
BEGIN:VEVENT
DTSTART;TZID=America/Chicago:20230313T080000
DTEND;TZID=America/Chicago:20230313T170000
DTSTAMP:20260422T175825
CREATED:20230103T011118Z
LAST-MODIFIED:20230123T235239Z
UID:3492-1678694400-1678726800@fredericksburgteaparty.org
SUMMARY:Texas Faith & Family Day
DESCRIPTION:The Texas Faith and Family day at the Texas Capitol is coming up on March 13th\, 2023 in Austin Texas. Since 2015\, Texas Values has been leading this event along with other like-minded organizations\, that brings together faith and family focused Texans from all over Texas\, to get educated on religious freedom\, pro-life\, and marriage & family issues that are being decided during the 2023 Texas Legislative session! \n \n  \n 
URL:https://fredericksburgteaparty.org/event/texas-faith-family-day/
LOCATION:Texas Capitol\, 1100 Congress Ave\, Austin\, TX\, United States
END:VEVENT
BEGIN:VEVENT
DTSTART;TZID=America/Chicago:20230309T183000
DTEND;TZID=America/Chicago:20230309T203000
DTSTAMP:20260422T175825
CREATED:20230214T185601Z
LAST-MODIFIED:20230214T185601Z
UID:3881-1678386600-1678393800@fredericksburgteaparty.org
SUMMARY:FBG Tea Party March Meeting
DESCRIPTION:FTP Monthly Meeting\nThursday\, March 9th at 6:30\nLight dinner option for $7 at 6 PM \nSt. Joseph’s Halle\n212 W San Antonio St\, Fredericksburg\nThe Great Reset: Unpacked\nGeneral public is welcome – this is a great way to learn more about us! \n2023 presents a unique opportunity to make a difference for Texans with the 88th Texas Legislature in session. Join us to meet fellow patriots\, enjoy a meal\, learn more about Focus 4 Action Groups! \nDon’t forget to add or renew your FTP annual membership and get a name tag!
URL:https://fredericksburgteaparty.org/event/fbg-tea-party-march-meeting/
LOCATION:St. Joseph’s Halle\, 212 W San Antonio St\, Fredericksburg\, TX\, 78624\, United States
END:VEVENT
BEGIN:VEVENT
DTSTART;TZID=America/Chicago:20230308T180000
DTEND;TZID=America/Chicago:20230308T210000
DTSTAMP:20260422T175825
CREATED:20230306T225809Z
LAST-MODIFIED:20230306T230758Z
UID:4016-1678298400-1678309200@fredericksburgteaparty.org
SUMMARY:Making Elections Accurate\, Transparent & Accountable
DESCRIPTION:
URL:https://fredericksburgteaparty.org/event/making-elections-accurate-transparent-accountable/
END:VEVENT
BEGIN:VEVENT
DTSTART;TZID=America/Chicago:20230308T163000
DTEND;TZID=America/Chicago:20230308T183000
DTSTAMP:20260422T175825
CREATED:20230306T230538Z
LAST-MODIFIED:20230306T230538Z
UID:4030-1678293000-1678300200@fredericksburgteaparty.org
SUMMARY:FISD SHAC Meeting
DESCRIPTION:Wednesday\, March 8th at 4:30 PM \nFISD SHAC Meeting\nStudent Health Advisory Council \nFISD is considering using Communities in Schools (CIS) again\, after locals spoke out against the contract last year. CIS teaches systemic racism and DEI (Diversity\, Equity & Inclusion) principles. \nMain Administrative Office\n234 Friendship Ln\, Fredericksburg
URL:https://fredericksburgteaparty.org/event/fisd-shac-meeting-2/
LOCATION:Main Bldg\, 234 Friendship Ln\, Fredericksburg\, TX\, 78671\, United States
END:VEVENT
BEGIN:VEVENT
DTSTART;TZID=America/Chicago:20230117T180000
DTEND;TZID=America/Chicago:20230117T200000
DTSTAMP:20260422T175825
CREATED:20230117T191608Z
LAST-MODIFIED:20230130T233606Z
UID:3610-1673978400-1673985600@fredericksburgteaparty.org
SUMMARY:Weekly Capitol Prayer Service
DESCRIPTION:
URL:https://fredericksburgteaparty.org/event/weekly-capitol-prayer-service-kick-off/
LOCATION:Texas Capitol\, 1100 Congress Ave\, Austin\, TX\, United States
END:VEVENT
END:VCALENDAR