BEGIN:VCALENDAR
VERSION:2.0
PRODID:-//Fredericksburg Tea Party - ECPv6.15.20//NONSGML v1.0//EN
CALSCALE:GREGORIAN
METHOD:PUBLISH
X-WR-CALNAME:Fredericksburg Tea Party
X-ORIGINAL-URL:https://fredericksburgteaparty.org
X-WR-CALDESC:Events for Fredericksburg Tea Party
REFRESH-INTERVAL;VALUE=DURATION:PT1H
X-Robots-Tag:noindex
X-PUBLISHED-TTL:PT1H
BEGIN:VTIMEZONE
TZID:America/Chicago
BEGIN:DAYLIGHT
TZOFFSETFROM:-0600
TZOFFSETTO:-0500
TZNAME:CDT
DTSTART:20220313T080000
END:DAYLIGHT
BEGIN:STANDARD
TZOFFSETFROM:-0500
TZOFFSETTO:-0600
TZNAME:CST
DTSTART:20221106T070000
END:STANDARD
BEGIN:DAYLIGHT
TZOFFSETFROM:-0600
TZOFFSETTO:-0500
TZNAME:CDT
DTSTART:20230312T080000
END:DAYLIGHT
BEGIN:STANDARD
TZOFFSETFROM:-0500
TZOFFSETTO:-0600
TZNAME:CST
DTSTART:20231105T070000
END:STANDARD
BEGIN:DAYLIGHT
TZOFFSETFROM:-0600
TZOFFSETTO:-0500
TZNAME:CDT
DTSTART:20240310T080000
END:DAYLIGHT
BEGIN:STANDARD
TZOFFSETFROM:-0500
TZOFFSETTO:-0600
TZNAME:CST
DTSTART:20241103T070000
END:STANDARD
END:VTIMEZONE
BEGIN:VEVENT
DTSTART;TZID=America/Chicago:20230816T173000
DTEND;TZID=America/Chicago:20230816T193000
DTSTAMP:20260422T180140
CREATED:20230731T182457Z
LAST-MODIFIED:20230731T182457Z
UID:4816-1692207000-1692214200@fredericksburgteaparty.org
SUMMARY:FISD Grievance Hearing
DESCRIPTION:
URL:https://fredericksburgteaparty.org/event/fisd-grievance-hearing/
LOCATION:Main Bldg\, 234 Friendship Ln\, Fredericksburg\, TX\, 78671\, United States
END:VEVENT
BEGIN:VEVENT
DTSTART;TZID=America/Chicago:20230815T180000
DTEND;TZID=America/Chicago:20230815T200000
DTSTAMP:20260422T180140
CREATED:20230812T154636Z
LAST-MODIFIED:20230812T154636Z
UID:4851-1692122400-1692129600@fredericksburgteaparty.org
SUMMARY:TNM in Llano
DESCRIPTION:
URL:https://fredericksburgteaparty.org/event/tnm-in-llano/
END:VEVENT
BEGIN:VEVENT
DTSTART;TZID=America/Chicago:20230810T180000
DTEND;TZID=America/Chicago:20230810T200000
DTSTAMP:20260422T180140
CREATED:20230731T182359Z
LAST-MODIFIED:20230731T182359Z
UID:4814-1691690400-1691697600@fredericksburgteaparty.org
SUMMARY:FTP August Meeting
DESCRIPTION:
URL:https://fredericksburgteaparty.org/event/ftp-august-meeting/
LOCATION:St. Joseph’s Halle\, 212 W San Antonio St\, Fredericksburg\, TX\, 78624\, United States
END:VEVENT
BEGIN:VEVENT
DTSTART;TZID=America/Chicago:20230808T190000
DTEND;TZID=America/Chicago:20230808T210000
DTSTAMP:20260422T180140
CREATED:20230731T182247Z
LAST-MODIFIED:20230731T182247Z
UID:4811-1691521200-1691528400@fredericksburgteaparty.org
SUMMARY:Prayer Night for the New School Year
DESCRIPTION:
URL:https://fredericksburgteaparty.org/event/prayer-night-for-the-new-school-year/
END:VEVENT
BEGIN:VEVENT
DTSTART;TZID=America/Chicago:20230724T180000
DTEND;TZID=America/Chicago:20230724T200000
DTSTAMP:20260422T180140
CREATED:20230703T181934Z
LAST-MODIFIED:20230703T181934Z
UID:4629-1690221600-1690228800@fredericksburgteaparty.org
SUMMARY:Christian Chamber of Texas Meeting
DESCRIPTION:Monday\, July 24th at 6PM \nChristian Chamber of Texas Meeting\nAre you a business owner? Could you benefit from guidance on how to run your business in partnership with the kingdom of Christ? Join us to learn more and get to know other local business owners \nBCFS/Health & Human Services Bldg\n1127 E Main St\, Kerrville \nQuestions? Contact Howard at 714-401-8813
URL:https://fredericksburgteaparty.org/event/christian-chamber-of-texas-meeting/
END:VEVENT
BEGIN:VEVENT
DTSTART;TZID=America/Chicago:20230723T180000
DTEND;TZID=America/Chicago:20230723T210000
DTSTAMP:20260422T180140
CREATED:20230710T220807Z
LAST-MODIFIED:20230710T220807Z
UID:4676-1690135200-1690146000@fredericksburgteaparty.org
SUMMARY:Hand Count Road Show
DESCRIPTION:
URL:https://fredericksburgteaparty.org/event/hand-count-road-show/
LOCATION:St. Joseph’s Halle\, 212 W San Antonio St\, Fredericksburg\, TX\, 78624\, United States
END:VEVENT
BEGIN:VEVENT
DTSTART;TZID=America/Chicago:20230720T180000
DTEND;TZID=America/Chicago:20230720T200000
DTSTAMP:20260422T180140
CREATED:20230710T220627Z
LAST-MODIFIED:20230710T220627Z
UID:4674-1689876000-1689883200@fredericksburgteaparty.org
SUMMARY:Hill Country Preppers Meeting
DESCRIPTION:Thursday\, July 20th at 6 PM \nHill Country Preppers Meeting\nLearn how rainwater catchment systems can harvest up to 600 gallons from just 1/4 inch rain \nBuzzie’s BBQ\n213 Schreiner St\, Kerrville
URL:https://fredericksburgteaparty.org/event/hill-country-preppers-meeting-4/
LOCATION:Buzzie’s BBQ\, 213 Schreiner St\, Kerrville\, TX\, United States
END:VEVENT
BEGIN:VEVENT
DTSTART;TZID=America/Chicago:20230718T180000
DTEND;TZID=America/Chicago:20230718T200000
DTSTAMP:20260422T180140
CREATED:20230717T174949Z
LAST-MODIFIED:20230717T174949Z
UID:4729-1689703200-1689710400@fredericksburgteaparty.org
SUMMARY:Llano: TEXIT Meet Up
DESCRIPTION:Heads up! The Llano group of the Texas Nationalist Movement will be hosting a meetup on Tuesday\, July 18th @ 6:00 PM. \nThey will be meeting at the Trailblazer Grille in Llano and would ove to have you there to help show support for efforts to get and win a vote on TEXIT. \nClick here for full details and to RSVP.
URL:https://fredericksburgteaparty.org/event/llano-texit-meet-up/
END:VEVENT
BEGIN:VEVENT
DTSTART;TZID=America/Chicago:20230713T180000
DTEND;TZID=America/Chicago:20230713T200000
DTSTAMP:20260422T180140
CREATED:20230622T011537Z
LAST-MODIFIED:20230627T192711Z
UID:4566-1689271200-1689278400@fredericksburgteaparty.org
SUMMARY:FTP July Meeting
DESCRIPTION:Thursday\, July 13th at 6:30 PM \nFTP July Meeting\nSummer movie night with award-winning Agenda 2: Masters of Deceit \nWatch the movie trailer here \n\nSt. Joseph’s Halle\n212 San Antonio StPopcorn & ice cream sundae bar\nFamilies are welcome and encouraged to attend!\nChildcare provided for K-5th
URL:https://fredericksburgteaparty.org/event/ftp-july-meeting/
LOCATION:St. Joseph’s Halle\, 212 W San Antonio St\, Fredericksburg\, TX\, 78624\, United States
END:VEVENT
BEGIN:VEVENT
DTSTART;TZID=America/Chicago:20230712T180000
DTEND;TZID=America/Chicago:20230712T200000
DTSTAMP:20260422T180140
CREATED:20230703T181853Z
LAST-MODIFIED:20230703T181853Z
UID:4626-1689184800-1689192000@fredericksburgteaparty.org
SUMMARY:Liberty in Action Meet Up
DESCRIPTION:
URL:https://fredericksburgteaparty.org/event/liberty-in-action-meet-up-2/
END:VEVENT
BEGIN:VEVENT
DTSTART;TZID=America/Chicago:20230708T180000
DTEND;TZID=America/Chicago:20230708T200000
DTSTAMP:20260422T180140
CREATED:20230515T190415Z
LAST-MODIFIED:20230515T190415Z
UID:4390-1688839200-1688846400@fredericksburgteaparty.org
SUMMARY:Fredericksburg Dance Hall Nights
DESCRIPTION:Fredericksburg Dance Hall Nights\nEveryone is invited to come and enjoy a free evening with music by The Bill Smallwood Band \nBring your own drinks & chairs \nMarktplatz\, Fredericksburg
URL:https://fredericksburgteaparty.org/event/fredericksburg-dance-hall-nights/
LOCATION:Marktplatz\, 126 W Main St\, Fredericksburg\, TX\, 78624\, United States
END:VEVENT
BEGIN:VEVENT
DTSTART;TZID=America/Chicago:20230708T160000
DTEND;TZID=America/Chicago:20230708T210000
DTSTAMP:20260422T180140
CREATED:20230627T192541Z
LAST-MODIFIED:20230627T192541Z
UID:4603-1688832000-1688850000@fredericksburgteaparty.org
SUMMARY:GOA Military Appreciation Night
DESCRIPTION:
URL:https://fredericksburgteaparty.org/event/goa-military-appreciation-night/
END:VEVENT
BEGIN:VEVENT
DTSTART;TZID=America/Chicago:20230705T090000
DTEND;TZID=America/Chicago:20230705T120000
DTSTAMP:20260422T180140
CREATED:20230627T192428Z
LAST-MODIFIED:20230627T192428Z
UID:4600-1688547600-1688558400@fredericksburgteaparty.org
SUMMARY:FBG City Council Meeting
DESCRIPTION:
URL:https://fredericksburgteaparty.org/event/fbg-city-council-meeting-3/
LOCATION:Law Enforcement Center\, 1601 E Main St\, Fredericksburg\, TX\, 78624\, United States
END:VEVENT
BEGIN:VEVENT
DTSTART;TZID=America/Chicago:20230704T190000
DTEND;TZID=America/Chicago:20230704T210000
DTSTAMP:20260422T180140
CREATED:20230703T181719Z
LAST-MODIFIED:20230703T181719Z
UID:4623-1688497200-1688504400@fredericksburgteaparty.org
SUMMARY:Free Family Concert
DESCRIPTION:
URL:https://fredericksburgteaparty.org/event/free-family-concert/
END:VEVENT
BEGIN:VEVENT
DTSTART;TZID=America/Chicago:20230704T090000
DTEND;TZID=America/Chicago:20230704T100000
DTSTAMP:20260422T180140
CREATED:20230627T192246Z
LAST-MODIFIED:20230627T192246Z
UID:4596-1688461200-1688464800@fredericksburgteaparty.org
SUMMARY:Patriotic Prayer Gathering
DESCRIPTION:
URL:https://fredericksburgteaparty.org/event/patriotic-prayer-gathering/
END:VEVENT
BEGIN:VEVENT
DTSTART;TZID=America/Chicago:20230628T180000
DTEND;TZID=America/Chicago:20230628T200000
DTSTAMP:20260422T180140
CREATED:20230627T192014Z
LAST-MODIFIED:20230627T192014Z
UID:4593-1687975200-1687982400@fredericksburgteaparty.org
SUMMARY:TEXIT Meetup in FBG
DESCRIPTION:
URL:https://fredericksburgteaparty.org/event/texit-meetup-in-fbg-2/
LOCATION:Backwoods BBQ\, 320 Farm To Market Rd 2093\, Fredericksburg\, TX\, United States
END:VEVENT
BEGIN:VEVENT
DTSTART;TZID=America/Chicago:20230620T090000
DTEND;TZID=America/Chicago:20230620T110000
DTSTAMP:20260422T180140
CREATED:20230613T210726Z
LAST-MODIFIED:20230613T210726Z
UID:4532-1687251600-1687258800@fredericksburgteaparty.org
SUMMARY:Fredericksburg City Council Meeting
DESCRIPTION:Tuesday\, June 20th at 9 AM \nFredericksburg City Council Meeting\nPublic Housing authority is on the agenda \nWill the taxpayers be required to pay for this? Will funding be removed from other services to cover this new project? What happens locally in the community when subsidized housing is the proposed solution? This is a serious issue and we encourage you you to attend\n\nLaw Enforcement Center\n1601 E Main St
URL:https://fredericksburgteaparty.org/event/fredericksburg-city-council-meeting-2/
LOCATION:Law Enforcement Center\, 1601 E Main St\, Fredericksburg\, TX\, 78624\, United States
END:VEVENT
BEGIN:VEVENT
DTSTART;TZID=America/Chicago:20230617T100000
DTEND;TZID=America/Chicago:20230617T140000
DTSTAMP:20260422T180140
CREATED:20230515T190325Z
LAST-MODIFIED:20230515T190325Z
UID:4388-1686996000-1687010400@fredericksburgteaparty.org
SUMMARY:Hill Country Rally for Jesus
DESCRIPTION:Hill Country Rally for Jesus\nWalk from the Courthouse to Louise Hays Park Plaza \nContact 210-289-8883 with questions \n700 Main St\, Kerrville
URL:https://fredericksburgteaparty.org/event/hill-country-rally-for-jesus/
END:VEVENT
BEGIN:VEVENT
DTSTART;TZID=America/Chicago:20230615T180000
DTEND;TZID=America/Chicago:20230615T200000
DTSTAMP:20260422T180140
CREATED:20230613T210612Z
LAST-MODIFIED:20230613T210612Z
UID:4530-1686852000-1686859200@fredericksburgteaparty.org
SUMMARY:Hill Country Preppers Meeting
DESCRIPTION:Thursday\, June 15th at 6 PM \nHill Country Preppers Meeting\nThe Ostrich Paradox- why we don’t fully prepare for disasters \nAre you truly prepared? Is something holding you back? Discover insights to your own preparedness strategy\, and how to better communicate with friends and family regarding their plans \nBuzzie’s BBQ\n213 Schreiner St\, Kerrville\n*dinner service not available
URL:https://fredericksburgteaparty.org/event/hill-country-preppers-meeting-3/
LOCATION:Buzzie’s BBQ\, 213 Schreiner St\, Kerrville\, TX\, United States
END:VEVENT
BEGIN:VEVENT
DTSTART;TZID=America/Chicago:20230608T183000
DTEND;TZID=America/Chicago:20230608T203000
DTSTAMP:20260422T180140
CREATED:20230515T190243Z
LAST-MODIFIED:20230515T190243Z
UID:4385-1686249000-1686256200@fredericksburgteaparty.org
SUMMARY:FTP June Meeting: Mark Meckler
DESCRIPTION:
URL:https://fredericksburgteaparty.org/event/ftp-june-meeting-mark-meckler/
LOCATION:St. Joseph’s Halle\, 212 W San Antonio St\, Fredericksburg\, TX\, 78624\, United States
END:VEVENT
BEGIN:VEVENT
DTSTART;TZID=America/Chicago:20230607T180000
DTEND;TZID=America/Chicago:20230607T200000
DTSTAMP:20260422T180140
CREATED:20230531T001327Z
LAST-MODIFIED:20230607T155524Z
UID:4463-1686160800-1686168000@fredericksburgteaparty.org
SUMMARY:Liberty in Action Meet Up
DESCRIPTION:Wednesday\, June 7th at 6 PM \nLiberty in Action Meet Up\nDiscussion of current issues in Kerrville community\, including a legislative session summary from FTP’s Angela Smith covering priorities vs. results \nArrive at 5:30 PM to order food; meeting starts at 6 PM \nDetails here \nAcapulco Mexican Restaurant\nKerrville
URL:https://fredericksburgteaparty.org/event/liberty-in-action-meet-up/
END:VEVENT
BEGIN:VEVENT
DTSTART;VALUE=DATE:20230603
DTEND;VALUE=DATE:20230604
DTSTAMP:20260422T180140
CREATED:20230507T150435Z
LAST-MODIFIED:20230507T150435Z
UID:4314-1685750400-1685836799@fredericksburgteaparty.org
SUMMARY:Stand Courageous Men's Conference
DESCRIPTION:
URL:https://fredericksburgteaparty.org/event/stand-courageous-mens-conference/
END:VEVENT
BEGIN:VEVENT
DTSTART;VALUE=DATE:20230602
DTEND;VALUE=DATE:20230604
DTSTAMP:20260422T180140
CREATED:20230508T215211Z
LAST-MODIFIED:20230508T215211Z
UID:4375-1685664000-1685836799@fredericksburgteaparty.org
SUMMARY:Stronger Marriage Workshop in Wimberley
DESCRIPTION:
URL:https://fredericksburgteaparty.org/event/stronger-marriage-workshop-in-wimberley/
END:VEVENT
BEGIN:VEVENT
DTSTART;TZID=America/Chicago:20230601T180000
DTEND;TZID=America/Chicago:20230601T200000
DTSTAMP:20260422T180140
CREATED:20230530T234115Z
LAST-MODIFIED:20230530T234115Z
UID:4441-1685642400-1685649600@fredericksburgteaparty.org
SUMMARY:Llano Tea Party Meeting
DESCRIPTION:Thursday\, June 1st at 6 PM \nLlano Tea Party Meeting\nRaz Shafer\, Sr Regional Director of Hillsdale College\, will speak on the subjects and promotion of Life\, Liberty\, and cultivating a love for American values \nRSVP here \nAmerican Legion Hall\nLlano\, TX
URL:https://fredericksburgteaparty.org/event/llano-tea-party-meeting/
END:VEVENT
BEGIN:VEVENT
DTSTART;TZID=America/Chicago:20230531T180000
DTEND;TZID=America/Chicago:20230531T200000
DTSTAMP:20260422T180140
CREATED:20230515T190057Z
LAST-MODIFIED:20230515T190057Z
UID:4383-1685556000-1685563200@fredericksburgteaparty.org
SUMMARY:TEXIT Meet Up in Fredericksburg
DESCRIPTION:TEXIT Meet Up in Fredericksburg\nGuest speaker will discuss why banking in Texas will be different \nBackwoods BBQ\nFredericksburg
URL:https://fredericksburgteaparty.org/event/texit-meet-up-in-fredericksburg/
LOCATION:Backwoods BBQ\, 320 Farm To Market Rd 2093\, Fredericksburg\, TX\, United States
END:VEVENT
BEGIN:VEVENT
DTSTART;TZID=America/Chicago:20230117T180000
DTEND;TZID=America/Chicago:20230117T200000
DTSTAMP:20260422T180140
CREATED:20230117T191608Z
LAST-MODIFIED:20230130T233606Z
UID:3610-1673978400-1673985600@fredericksburgteaparty.org
SUMMARY:Weekly Capitol Prayer Service
DESCRIPTION:
URL:https://fredericksburgteaparty.org/event/weekly-capitol-prayer-service-kick-off/
LOCATION:Texas Capitol\, 1100 Congress Ave\, Austin\, TX\, United States
END:VEVENT
BEGIN:VEVENT
DTSTART;TZID=America/Chicago:20230518T190000
DTEND;TZID=America/Chicago:20230518T210000
DTSTAMP:20260422T180140
CREATED:20230515T185948Z
LAST-MODIFIED:20230515T185948Z
UID:4381-1684436400-1684443600@fredericksburgteaparty.org
SUMMARY:FTP's Teresa Weirich on Border Security
DESCRIPTION:FTP’s Teresa Weirich on Border Security\nSpeaking to GCRC on why border security is national security \nVictory Fellowship\n414 E College St
URL:https://fredericksburgteaparty.org/event/ftps-teresa-weirich-on-border-security/
END:VEVENT
BEGIN:VEVENT
DTSTART;TZID=America/Chicago:20230117T180000
DTEND;TZID=America/Chicago:20230117T200000
DTSTAMP:20260422T180140
CREATED:20230117T191608Z
LAST-MODIFIED:20230130T233606Z
UID:3610-1673978400-1673985600@fredericksburgteaparty.org
SUMMARY:Weekly Capitol Prayer Service
DESCRIPTION:
URL:https://fredericksburgteaparty.org/event/weekly-capitol-prayer-service-kick-off/
LOCATION:Texas Capitol\, 1100 Congress Ave\, Austin\, TX\, United States
END:VEVENT
BEGIN:VEVENT
DTSTART;TZID=America/Chicago:20230516T090000
DTEND;TZID=America/Chicago:20230516T110000
DTSTAMP:20260422T180140
CREATED:20230515T185809Z
LAST-MODIFIED:20230515T185809Z
UID:4379-1684227600-1684234800@fredericksburgteaparty.org
SUMMARY:FBG City Council Meeting
DESCRIPTION:Fredericksburg City Council Meeting\nDiscussions continue on Public Housing Authority \nLaw Enforcement Center\n1601 E Main St
URL:https://fredericksburgteaparty.org/event/fbg-city-council-meeting-2/
LOCATION:Law Enforcement Center\, 1601 E Main St\, Fredericksburg\, TX\, 78624\, United States
END:VEVENT
BEGIN:VEVENT
DTSTART;TZID=America/Chicago:20230511T180000
DTEND;TZID=America/Chicago:20230511T200000
DTSTAMP:20260422T180140
CREATED:20230508T215024Z
LAST-MODIFIED:20230508T215024Z
UID:4373-1683828000-1683835200@fredericksburgteaparty.org
SUMMARY:FTP Monthly Meeting with RPT Chairwoman Jill Glover
DESCRIPTION:
URL:https://fredericksburgteaparty.org/event/ftp-monthly-meeting-with-rpt-chairwoman-jill-glover/
LOCATION:St. Joseph’s Halle\, 212 W San Antonio St\, Fredericksburg\, TX\, 78624\, United States
END:VEVENT
END:VCALENDAR