BEGIN:VCALENDAR
VERSION:2.0
PRODID:-//Fredericksburg Tea Party - ECPv6.15.20//NONSGML v1.0//EN
CALSCALE:GREGORIAN
METHOD:PUBLISH
X-WR-CALNAME:Fredericksburg Tea Party
X-ORIGINAL-URL:https://fredericksburgteaparty.org
X-WR-CALDESC:Events for Fredericksburg Tea Party
REFRESH-INTERVAL;VALUE=DURATION:PT1H
X-Robots-Tag:noindex
X-PUBLISHED-TTL:PT1H
BEGIN:VTIMEZONE
TZID:America/Chicago
BEGIN:DAYLIGHT
TZOFFSETFROM:-0600
TZOFFSETTO:-0500
TZNAME:CDT
DTSTART:20220313T080000
END:DAYLIGHT
BEGIN:STANDARD
TZOFFSETFROM:-0500
TZOFFSETTO:-0600
TZNAME:CST
DTSTART:20221106T070000
END:STANDARD
BEGIN:DAYLIGHT
TZOFFSETFROM:-0600
TZOFFSETTO:-0500
TZNAME:CDT
DTSTART:20230312T080000
END:DAYLIGHT
BEGIN:STANDARD
TZOFFSETFROM:-0500
TZOFFSETTO:-0600
TZNAME:CST
DTSTART:20231105T070000
END:STANDARD
BEGIN:DAYLIGHT
TZOFFSETFROM:-0600
TZOFFSETTO:-0500
TZNAME:CDT
DTSTART:20240310T080000
END:DAYLIGHT
BEGIN:STANDARD
TZOFFSETFROM:-0500
TZOFFSETTO:-0600
TZNAME:CST
DTSTART:20241103T070000
END:STANDARD
END:VTIMEZONE
BEGIN:VEVENT
DTSTART;TZID=America/Chicago:20230117T180000
DTEND;TZID=America/Chicago:20230117T200000
DTSTAMP:20260423T103423
CREATED:20230117T191608Z
LAST-MODIFIED:20230130T233606Z
UID:3610-1673978400-1673985600@fredericksburgteaparty.org
SUMMARY:Weekly Capitol Prayer Service
DESCRIPTION:
URL:https://fredericksburgteaparty.org/event/weekly-capitol-prayer-service-kick-off/
LOCATION:Texas Capitol\, 1100 Congress Ave\, Austin\, TX\, United States
END:VEVENT
BEGIN:VEVENT
DTSTART;TZID=America/Chicago:20230313T080000
DTEND;TZID=America/Chicago:20230313T170000
DTSTAMP:20260423T103423
CREATED:20230103T011118Z
LAST-MODIFIED:20230123T235239Z
UID:3492-1678694400-1678726800@fredericksburgteaparty.org
SUMMARY:Texas Faith & Family Day
DESCRIPTION:The Texas Faith and Family day at the Texas Capitol is coming up on March 13th\, 2023 in Austin Texas. Since 2015\, Texas Values has been leading this event along with other like-minded organizations\, that brings together faith and family focused Texans from all over Texas\, to get educated on religious freedom\, pro-life\, and marriage & family issues that are being decided during the 2023 Texas Legislative session! \n \n  \n 
URL:https://fredericksburgteaparty.org/event/texas-faith-family-day/
LOCATION:Texas Capitol\, 1100 Congress Ave\, Austin\, TX\, United States
END:VEVENT
BEGIN:VEVENT
DTSTART;TZID=America/Chicago:20230309T183000
DTEND;TZID=America/Chicago:20230309T203000
DTSTAMP:20260423T103423
CREATED:20230214T185601Z
LAST-MODIFIED:20230214T185601Z
UID:3881-1678386600-1678393800@fredericksburgteaparty.org
SUMMARY:FBG Tea Party March Meeting
DESCRIPTION:FTP Monthly Meeting\nThursday\, March 9th at 6:30\nLight dinner option for $7 at 6 PM \nSt. Joseph’s Halle\n212 W San Antonio St\, Fredericksburg\nThe Great Reset: Unpacked\nGeneral public is welcome – this is a great way to learn more about us! \n2023 presents a unique opportunity to make a difference for Texans with the 88th Texas Legislature in session. Join us to meet fellow patriots\, enjoy a meal\, learn more about Focus 4 Action Groups! \nDon’t forget to add or renew your FTP annual membership and get a name tag!
URL:https://fredericksburgteaparty.org/event/fbg-tea-party-march-meeting/
LOCATION:St. Joseph’s Halle\, 212 W San Antonio St\, Fredericksburg\, TX\, 78624\, United States
END:VEVENT
BEGIN:VEVENT
DTSTART;TZID=America/Chicago:20230308T180000
DTEND;TZID=America/Chicago:20230308T210000
DTSTAMP:20260423T103423
CREATED:20230306T225809Z
LAST-MODIFIED:20230306T230758Z
UID:4016-1678298400-1678309200@fredericksburgteaparty.org
SUMMARY:Making Elections Accurate\, Transparent & Accountable
DESCRIPTION:
URL:https://fredericksburgteaparty.org/event/making-elections-accurate-transparent-accountable/
END:VEVENT
BEGIN:VEVENT
DTSTART;TZID=America/Chicago:20230308T163000
DTEND;TZID=America/Chicago:20230308T183000
DTSTAMP:20260423T103423
CREATED:20230306T230538Z
LAST-MODIFIED:20230306T230538Z
UID:4030-1678293000-1678300200@fredericksburgteaparty.org
SUMMARY:FISD SHAC Meeting
DESCRIPTION:Wednesday\, March 8th at 4:30 PM \nFISD SHAC Meeting\nStudent Health Advisory Council \nFISD is considering using Communities in Schools (CIS) again\, after locals spoke out against the contract last year. CIS teaches systemic racism and DEI (Diversity\, Equity & Inclusion) principles. \nMain Administrative Office\n234 Friendship Ln\, Fredericksburg
URL:https://fredericksburgteaparty.org/event/fisd-shac-meeting-2/
LOCATION:Main Bldg\, 234 Friendship Ln\, Fredericksburg\, TX\, 78671\, United States
END:VEVENT
BEGIN:VEVENT
DTSTART;TZID=America/Chicago:20230117T180000
DTEND;TZID=America/Chicago:20230117T200000
DTSTAMP:20260423T103423
CREATED:20230117T191608Z
LAST-MODIFIED:20230130T233606Z
UID:3610-1673978400-1673985600@fredericksburgteaparty.org
SUMMARY:Weekly Capitol Prayer Service
DESCRIPTION:
URL:https://fredericksburgteaparty.org/event/weekly-capitol-prayer-service-kick-off/
LOCATION:Texas Capitol\, 1100 Congress Ave\, Austin\, TX\, United States
END:VEVENT
BEGIN:VEVENT
DTSTART;TZID=America/Chicago:20230307T100000
DTEND;TZID=America/Chicago:20230307T200000
DTSTAMP:20260423T103423
CREATED:20230306T225651Z
LAST-MODIFIED:20230306T230721Z
UID:4013-1678183200-1678219200@fredericksburgteaparty.org
SUMMARY:Texas Education 911: Day at the Capitol
DESCRIPTION:
URL:https://fredericksburgteaparty.org/event/texas-education-911-day-at-the-capitol/
LOCATION:Texas Capitol\, 1100 Congress Ave\, Austin\, TX\, United States
END:VEVENT
BEGIN:VEVENT
DTSTART;TZID=America/Chicago:20230307T090000
DTEND;TZID=America/Chicago:20230307T110000
DTSTAMP:20260423T103423
CREATED:20230306T225521Z
LAST-MODIFIED:20230306T225521Z
UID:4011-1678179600-1678186800@fredericksburgteaparty.org
SUMMARY:FBG City Council Meeting
DESCRIPTION:Tuesday\, March 7th at 9 AM \nFredericksburg City Council Meeting\nThe best way to influence the Council is to show up in person \nAgenda here \nLaw Enforcement Center\n1601 E Main St
URL:https://fredericksburgteaparty.org/event/fbg-city-council-meeting/
LOCATION:Law Enforcement Center\, 1601 E Main St\, Fredericksburg\, TX\, 78624\, United States
END:VEVENT
BEGIN:VEVENT
DTSTART;TZID=America/Chicago:20230302T180000
DTEND;TZID=America/Chicago:20230302T200000
DTSTAMP:20260423T103423
CREATED:20230214T185403Z
LAST-MODIFIED:20230214T185403Z
UID:3879-1677780000-1677787200@fredericksburgteaparty.org
SUMMARY:Llano Tea Party March Meeting
DESCRIPTION:Thursday\, March 2nd at 6 PM \nLlano Tea Party March Meeting\nLearn about your medical freedom rights and which Legislators committed to prohibiting mandates \nEvent details here \nAmerican Legion Hall\n200 Legion Drive\, Llano\nMeal option for $20
URL:https://fredericksburgteaparty.org/event/llano-tea-party-march-meeting/
END:VEVENT
BEGIN:VEVENT
DTSTART;TZID=America/Chicago:20230228T180000
DTEND;TZID=America/Chicago:20230228T200000
DTSTAMP:20260423T103423
CREATED:20230214T185154Z
LAST-MODIFIED:20230214T185154Z
UID:3877-1677607200-1677614400@fredericksburgteaparty.org
SUMMARY:Biedermann Appreciation Event
DESCRIPTION:
URL:https://fredericksburgteaparty.org/event/biedermann-appreciation-event/
END:VEVENT
BEGIN:VEVENT
DTSTART;TZID=America/Chicago:20230117T180000
DTEND;TZID=America/Chicago:20230117T200000
DTSTAMP:20260423T103423
CREATED:20230117T191608Z
LAST-MODIFIED:20230130T233606Z
UID:3610-1673978400-1673985600@fredericksburgteaparty.org
SUMMARY:Weekly Capitol Prayer Service
DESCRIPTION:
URL:https://fredericksburgteaparty.org/event/weekly-capitol-prayer-service-kick-off/
LOCATION:Texas Capitol\, 1100 Congress Ave\, Austin\, TX\, United States
END:VEVENT
BEGIN:VEVENT
DTSTART;TZID=America/Chicago:20230227T180000
DTEND;TZID=America/Chicago:20230227T203000
DTSTAMP:20260423T103423
CREATED:20230130T224032Z
LAST-MODIFIED:20230214T191155Z
UID:3702-1677520800-1677529800@fredericksburgteaparty.org
SUMMARY:Moms for Liberty Kick-Off Event
DESCRIPTION:Monday\, February 27th at 6 PM \nMoms for Liberty Kick-Off Event\nFeaturing leaders in journalism\, parental rights\, and ministry\n\nSign up for Gillespie County chapter membership here \nEvent details here
URL:https://fredericksburgteaparty.org/event/moms-for-liberty-launch-meeting/
END:VEVENT
BEGIN:VEVENT
DTSTART;TZID=America/Chicago:20230227T180000
DTEND;TZID=America/Chicago:20230227T200000
DTSTAMP:20260423T103423
CREATED:20230220T193252Z
LAST-MODIFIED:20230220T193252Z
UID:3937-1677520800-1677528000@fredericksburgteaparty.org
SUMMARY:Forum on Methodist Healthcare Acquisition of HCM
DESCRIPTION:
URL:https://fredericksburgteaparty.org/event/forum-on-methodist-healthcare-acquisition-of-hcm/
END:VEVENT
BEGIN:VEVENT
DTSTART;TZID=America/Chicago:20230222T163000
DTEND;TZID=America/Chicago:20230222T183000
DTSTAMP:20260423T103423
CREATED:20230123T233546Z
LAST-MODIFIED:20230123T233546Z
UID:3655-1677083400-1677090600@fredericksburgteaparty.org
SUMMARY:FISD SHAC Meeting
DESCRIPTION:Wednesday\, February 22nd at 4:30 PM \nFISD SHAC Meeting\nStudent Health Advisory Council \nFISD is considering using Communities in Schools (CIS) again\, after locals spoke out against the contract last year. CIS promotes systemic racism\, LGBTQ+ agendas\, and has leadership affiliations with Planned Parenthood. Last year’s summary can be viewed here \nMain Administrative Office\n234 Friendship Ln\, Fredericksburg
URL:https://fredericksburgteaparty.org/event/fisd-shac-meeting/
LOCATION:FISD Admin Bldg\, 234 Friendship Lane\, Fredericksburg\, TX\, 78624\, United States
END:VEVENT
BEGIN:VEVENT
DTSTART;TZID=America/Chicago:20230117T180000
DTEND;TZID=America/Chicago:20230117T200000
DTSTAMP:20260423T103423
CREATED:20230117T191608Z
LAST-MODIFIED:20230130T233606Z
UID:3610-1673978400-1673985600@fredericksburgteaparty.org
SUMMARY:Weekly Capitol Prayer Service
DESCRIPTION:
URL:https://fredericksburgteaparty.org/event/weekly-capitol-prayer-service-kick-off/
LOCATION:Texas Capitol\, 1100 Congress Ave\, Austin\, TX\, United States
END:VEVENT
BEGIN:VEVENT
DTSTART;TZID=America/Chicago:20230221T090000
DTEND;TZID=America/Chicago:20230221T110000
DTSTAMP:20260423T103423
CREATED:20230220T193114Z
LAST-MODIFIED:20230220T193114Z
UID:3935-1676970000-1676977200@fredericksburgteaparty.org
SUMMARY:Fredericksburg City Council Meeting
DESCRIPTION:Tuesday\, February 21st at 9 AM \nFredericksburg City Council Meeting\nThe best way to influence the Council is to show up in person \nLaw Enforcement Center\n1601 E Main St\, FBG
URL:https://fredericksburgteaparty.org/event/fredericksburg-city-council-meeting/
LOCATION:Law Enforcement Center\, 1601 E Main St\, Fredericksburg\, TX\, 78624\, United States
END:VEVENT
BEGIN:VEVENT
DTSTART;TZID=America/Chicago:20230216T180000
DTEND;TZID=America/Chicago:20230216T200000
DTSTAMP:20260423T103423
CREATED:20230206T215525Z
LAST-MODIFIED:20230206T215525Z
UID:3824-1676570400-1676577600@fredericksburgteaparty.org
SUMMARY:Hill Country Preppers Monthly Meeting
DESCRIPTION:Thursday\, February 16th at 6 PM \nHill Country Preppers Meeting\nGuest speaker Professor Jeffery Addicott Lt. Colonel (US Army\, Ret.)\, Professor of Law\, and Director of Warrior Defense Project \nBuzzie’s BBQ\n213 Schreiner St\, Kerrville\n*meal service ends at 3 PM; plan accordingly
URL:https://fredericksburgteaparty.org/event/hill-country-preppers-monthly-meeting/
LOCATION:Buzzie’s BBQ\, 213 Schreiner St\, Kerrville\, TX\, United States
END:VEVENT
BEGIN:VEVENT
DTSTART;TZID=America/Chicago:20230117T180000
DTEND;TZID=America/Chicago:20230117T200000
DTSTAMP:20260423T103423
CREATED:20230117T191608Z
LAST-MODIFIED:20230130T233606Z
UID:3610-1673978400-1673985600@fredericksburgteaparty.org
SUMMARY:Weekly Capitol Prayer Service
DESCRIPTION:
URL:https://fredericksburgteaparty.org/event/weekly-capitol-prayer-service-kick-off/
LOCATION:Texas Capitol\, 1100 Congress Ave\, Austin\, TX\, United States
END:VEVENT
BEGIN:VEVENT
DTSTART;TZID=America/Chicago:20230209T180000
DTEND;TZID=America/Chicago:20230209T200000
DTSTAMP:20260423T103423
CREATED:20230117T193329Z
LAST-MODIFIED:20230117T193329Z
UID:3625-1675965600-1675972800@fredericksburgteaparty.org
SUMMARY:FTP Monthly Meeting\, Guns & Roses Edition
DESCRIPTION:
URL:https://fredericksburgteaparty.org/event/ftp-monthly-meeting-guns-roses-edition/
LOCATION:St. Joseph’s Halle\, 212 W San Antonio St\, Fredericksburg\, TX\, 78624\, United States
END:VEVENT
BEGIN:VEVENT
DTSTART;TZID=America/Chicago:20230208T090000
DTEND;TZID=America/Chicago:20230208T110000
DTSTAMP:20260423T103423
CREATED:20230206T215411Z
LAST-MODIFIED:20230206T215411Z
UID:3820-1675846800-1675854000@fredericksburgteaparty.org
SUMMARY:FBG City Council Special Meeting
DESCRIPTION:Wednesday\, February 8th at 9 AM \nFBG City Council Special Meeting\nThe best way to influence the Council is to show up in person \nAgenda here \nLaw Enforcement Center\n1601 E Main St\, Fredericksburg
URL:https://fredericksburgteaparty.org/event/fbg-city-council-special-meeting/
LOCATION:Law Enforcement Center\, 1601 E Main St\, Fredericksburg\, TX\, 78624\, United States
END:VEVENT
BEGIN:VEVENT
DTSTART;TZID=America/Chicago:20230117T180000
DTEND;TZID=America/Chicago:20230117T200000
DTSTAMP:20260423T103423
CREATED:20230117T191608Z
LAST-MODIFIED:20230130T233606Z
UID:3610-1673978400-1673985600@fredericksburgteaparty.org
SUMMARY:Weekly Capitol Prayer Service
DESCRIPTION:
URL:https://fredericksburgteaparty.org/event/weekly-capitol-prayer-service-kick-off/
LOCATION:Texas Capitol\, 1100 Congress Ave\, Austin\, TX\, United States
END:VEVENT
BEGIN:VEVENT
DTSTART;TZID=America/Chicago:20230207T120000
DTEND;TZID=America/Chicago:20230207T140000
DTSTAMP:20260423T103423
CREATED:20230206T215306Z
LAST-MODIFIED:20230206T215740Z
UID:3817-1675771200-1675778400@fredericksburgteaparty.org
SUMMARY:Virtual Legislative Advocacy Training
DESCRIPTION:
URL:https://fredericksburgteaparty.org/event/virtual-legislative-advocacy-training/
END:VEVENT
BEGIN:VEVENT
DTSTART;TZID=America/Chicago:20230207T100000
DTEND;TZID=America/Chicago:20230207T160000
DTSTAMP:20260423T103423
CREATED:20230206T215101Z
LAST-MODIFIED:20230206T215101Z
UID:3815-1675764000-1675785600@fredericksburgteaparty.org
SUMMARY:Citizen Advocate Training at Capitol
DESCRIPTION:Tuesday\, February 7th at 10 AM \nCitizen Advocate Training\nHow to Read a Bill by Fran Rhodes (True Texas Project) and Tips for Effective Office Visits by Matt Long (FTP) \nFollowed by coordinated visits to lawmakers offices (1 PM to 4 PM) to distribute The Huffines Liberty Foundation tax relief plan and TURF Transportation policy paper- put your new skills to work! \nTexas Capitol\, Austin\nRoom E1.022\nCapitol maps are available on the 2023 Session page of the FTP website here
URL:https://fredericksburgteaparty.org/event/citizen-advocate-training-at-capitol/
LOCATION:Texas Capitol\, 1100 Congress Ave\, Austin\, TX\, United States
END:VEVENT
BEGIN:VEVENT
DTSTART;TZID=America/Chicago:20230206T173000
DTEND;TZID=America/Chicago:20230206T193000
DTSTAMP:20260423T103423
CREATED:20230123T233255Z
LAST-MODIFIED:20230123T233255Z
UID:3653-1675704600-1675711800@fredericksburgteaparty.org
SUMMARY:FISD School Board Meeting
DESCRIPTION:Monday\, February 6th at 5:30 PM \nFISD School Board Meeting\nExcessively vulgar books and radicalized curriculum continue to be an issue \nMain Administrative Office\n234 Friendship Ln\, Fredericksburg
URL:https://fredericksburgteaparty.org/event/fisd-school-board-meeting-2/
LOCATION:FISD Admin Bldg\, 234 Friendship Lane\, Fredericksburg\, TX\, 78624\, United States
END:VEVENT
BEGIN:VEVENT
DTSTART;TZID=America/Chicago:20230201T073000
DTEND;TZID=America/Chicago:20230201T173000
DTSTAMP:20260423T103423
CREATED:20230130T223930Z
LAST-MODIFIED:20230130T223930Z
UID:3699-1675236600-1675272600@fredericksburgteaparty.org
SUMMARY:National Gathering for Prayer & Repentance
DESCRIPTION:
URL:https://fredericksburgteaparty.org/event/national-gathering-for-prayer-repentance/
END:VEVENT
BEGIN:VEVENT
DTSTART;TZID=America/Chicago:20230117T180000
DTEND;TZID=America/Chicago:20230117T200000
DTSTAMP:20260423T103423
CREATED:20230117T191608Z
LAST-MODIFIED:20230130T233606Z
UID:3610-1673978400-1673985600@fredericksburgteaparty.org
SUMMARY:Weekly Capitol Prayer Service
DESCRIPTION:
URL:https://fredericksburgteaparty.org/event/weekly-capitol-prayer-service-kick-off/
LOCATION:Texas Capitol\, 1100 Congress Ave\, Austin\, TX\, United States
END:VEVENT
BEGIN:VEVENT
DTSTART;TZID=America/Chicago:20230128T120000
DTEND;TZID=America/Chicago:20230128T140000
DTSTAMP:20260423T103423
CREATED:20230123T233124Z
LAST-MODIFIED:20230123T233124Z
UID:3650-1674907200-1674914400@fredericksburgteaparty.org
SUMMARY:Texas Nationalist Movement in FBG
DESCRIPTION:Saturday\, January 28th at 12 PM \nTexas Nationalist Movement Meetup\nTNM will be on the sidewalks of Marktplatz to register supporters and answer questions \nMarktplatz\n126 W Main St\, Fredericksburg
URL:https://fredericksburgteaparty.org/event/texas-nationalist-movement-in-fbg/
LOCATION:Marktplatz\, 126 W Main St\, Fredericksburg\, TX\, 78624\, United States
END:VEVENT
BEGIN:VEVENT
DTSTART;TZID=America/Chicago:20230128T080000
DTEND;TZID=America/Chicago:20230129T170000
DTSTAMP:20260423T103423
CREATED:20230109T201941Z
LAST-MODIFIED:20230109T201941Z
UID:3543-1674892800-1675011600@fredericksburgteaparty.org
SUMMARY:2023 Convention for Life
DESCRIPTION:2023 CONVENTION FOR LIFE by Texas Right to Life \nThe annual Boots on the Ground Conference is one of the largest Pro-Life conferences in the state of Texas. Launched in 2014\, the conference brings together hundreds of Pro-Life advocates from across the state to inspire the Pro-Life movement\, discuss the next challenges facing the movement\, and pass on vital knowledge and skills to those defending Life at all stages. \nWhether you are a Pro-Life expert\, beginner\, or a Pro-Life advocate wannabe\, this conference is for you and you will be glad you came!
URL:https://fredericksburgteaparty.org/event/2023-convention-for-life/
LOCATION:Austin Convention Center\, 500 E Cesar Chavez\, Austin\, TX\, United States
END:VEVENT
BEGIN:VEVENT
DTSTART;TZID=America/Chicago:20230125T190000
DTEND;TZID=America/Chicago:20230125T210000
DTSTAMP:20260423T103423
CREATED:20230117T192657Z
LAST-MODIFIED:20230117T192811Z
UID:3620-1674673200-1674680400@fredericksburgteaparty.org
SUMMARY:GOA Texas Armed Attorneys Town Hall
DESCRIPTION:
URL:https://fredericksburgteaparty.org/event/goa-texas-armed-attorneys-town-hall-1-25/
END:VEVENT
BEGIN:VEVENT
DTSTART;TZID=America/Chicago:20230125T130000
DTEND;TZID=America/Chicago:20230125T160000
DTSTAMP:20260423T103423
CREATED:20230103T010820Z
LAST-MODIFIED:20230103T010820Z
UID:3490-1674651600-1674662400@fredericksburgteaparty.org
SUMMARY:Freedom Fight 2023 with Texans for Vaccine Choice
DESCRIPTION:January 25 \nRally at the Texas Capitol!\nThis session our rally will be in January to set the tone for the 88th Legislative Session. \nJoin TFVC and a lineup of special guests\, including Del Bigtree\, as we kick start the session with a call for meaningful action to protect medical liberty. \nThis will be an amazing free event\, don’t miss out! Details here.
URL:https://fredericksburgteaparty.org/event/freedom-fight-2023-with-texans-for-vaccine-choice/
LOCATION:Texas Capitol\, 1100 Congress Ave\, Austin\, TX\, United States
END:VEVENT
END:VCALENDAR