BEGIN:VCALENDAR
VERSION:2.0
PRODID:-//Fredericksburg Tea Party - ECPv6.15.20//NONSGML v1.0//EN
CALSCALE:GREGORIAN
METHOD:PUBLISH
X-WR-CALNAME:Fredericksburg Tea Party
X-ORIGINAL-URL:https://fredericksburgteaparty.org
X-WR-CALDESC:Events for Fredericksburg Tea Party
REFRESH-INTERVAL;VALUE=DURATION:PT1H
X-Robots-Tag:noindex
X-PUBLISHED-TTL:PT1H
BEGIN:VTIMEZONE
TZID:America/Chicago
BEGIN:DAYLIGHT
TZOFFSETFROM:-0600
TZOFFSETTO:-0500
TZNAME:CDT
DTSTART:20240310T080000
END:DAYLIGHT
BEGIN:STANDARD
TZOFFSETFROM:-0500
TZOFFSETTO:-0600
TZNAME:CST
DTSTART:20241103T070000
END:STANDARD
BEGIN:DAYLIGHT
TZOFFSETFROM:-0600
TZOFFSETTO:-0500
TZNAME:CDT
DTSTART:20250309T080000
END:DAYLIGHT
BEGIN:STANDARD
TZOFFSETFROM:-0500
TZOFFSETTO:-0600
TZNAME:CST
DTSTART:20251102T070000
END:STANDARD
BEGIN:DAYLIGHT
TZOFFSETFROM:-0600
TZOFFSETTO:-0500
TZNAME:CDT
DTSTART:20260308T080000
END:DAYLIGHT
BEGIN:STANDARD
TZOFFSETFROM:-0500
TZOFFSETTO:-0600
TZNAME:CST
DTSTART:20261101T070000
END:STANDARD
END:VTIMEZONE
BEGIN:VEVENT
DTSTART;VALUE=DATE:20250727
DTEND;VALUE=DATE:20250803
DTSTAMP:20260421T201433
CREATED:20250428T213656Z
LAST-MODIFIED:20250428T213656Z
UID:6065-1753574400-1754179199@fredericksburgteaparty.org
SUMMARY:Leadership Congress with Patriot Academy
DESCRIPTION:
URL:https://fredericksburgteaparty.org/event/leadership-congress-with-patriot-academy/
END:VEVENT
BEGIN:VEVENT
DTSTART;TZID=America/Chicago:20250725T190000
DTEND;TZID=America/Chicago:20250725T210000
DTSTAMP:20260421T201433
CREATED:20250707T163427Z
LAST-MODIFIED:20250707T163427Z
UID:6159-1753470000-1753477200@fredericksburgteaparty.org
SUMMARY:Matt Papa Worship Concert
DESCRIPTION:
URL:https://fredericksburgteaparty.org/event/matt-papa-worship-concert/
END:VEVENT
BEGIN:VEVENT
DTSTART;TZID=America/Chicago:20250718T180000
DTEND;TZID=America/Chicago:20250718T200000
DTSTAMP:20260421T201433
CREATED:20250707T163341Z
LAST-MODIFIED:20250707T163341Z
UID:6157-1752861600-1752868800@fredericksburgteaparty.org
SUMMARY:Hill Country Preppers Meeting
DESCRIPTION:Hill Country Preppers Meeting\nFriday\, July 18th at 6 PM \nMaureen “Mo” Poorman brings a wide array of experience to her discussion of nutrition\, food preservation\, and how to eat like a chef. Thirty five years in the restaurant business\, 14 years in healthcare and a lifetime of gardening\, foraging skills\, cooking from scratch\, canning and baking. She is currently a nutrition coach with Wilson Family Chiropractic. \nBuzzie’s BBQ 213 Schreiner St\, Kerrville
URL:https://fredericksburgteaparty.org/event/hill-country-preppers-meeting-11/
END:VEVENT
BEGIN:VEVENT
DTSTART;TZID=America/Chicago:20250710T180000
DTEND;TZID=America/Chicago:20250710T200000
DTSTAMP:20260421T201433
CREATED:20250616T184239Z
LAST-MODIFIED:20250616T184239Z
UID:6132-1752170400-1752177600@fredericksburgteaparty.org
SUMMARY:FTP July Meeting
DESCRIPTION:
URL:https://fredericksburgteaparty.org/event/ftp-july-meeting-2/
END:VEVENT
BEGIN:VEVENT
DTSTART;VALUE=DATE:20250710
DTEND;VALUE=DATE:20250713
DTSTAMP:20260421T201433
CREATED:20250415T203013Z
LAST-MODIFIED:20250415T203013Z
UID:6038-1752105600-1752364799@fredericksburgteaparty.org
SUMMARY:Great Homeschool Convention in Texas
DESCRIPTION:
URL:https://fredericksburgteaparty.org/event/great-homeschool-convention-in-texas/
END:VEVENT
BEGIN:VEVENT
DTSTART;VALUE=DATE:20250710
DTEND;VALUE=DATE:20250713
DTSTAMP:20260421T201433
CREATED:20250317T194226Z
LAST-MODIFIED:20250317T194226Z
UID:6004-1752105600-1752364799@fredericksburgteaparty.org
SUMMARY:Great Homeschool Convention
DESCRIPTION:
URL:https://fredericksburgteaparty.org/event/great-homeschool-convention/
END:VEVENT
BEGIN:VEVENT
DTSTART;TZID=America/Chicago:20250709T130000
DTEND;TZID=America/Chicago:20250709T150000
DTSTAMP:20260421T201433
CREATED:20250630T192139Z
LAST-MODIFIED:20250630T192139Z
UID:6155-1752066000-1752073200@fredericksburgteaparty.org
SUMMARY:Legislative Update & Benefit Lunch
DESCRIPTION:Register HERE to attend
URL:https://fredericksburgteaparty.org/event/legislative-update-benefit-lunch/
END:VEVENT
BEGIN:VEVENT
DTSTART;TZID=America/Chicago:20250708T170000
DTEND;TZID=America/Chicago:20250708T200000
DTSTAMP:20260421T201433
CREATED:20250616T184154Z
LAST-MODIFIED:20250616T184154Z
UID:6130-1751994000-1752004800@fredericksburgteaparty.org
SUMMARY:Follow the Silenced Watch Party
DESCRIPTION:
URL:https://fredericksburgteaparty.org/event/follow-the-silenced-watch-party/
END:VEVENT
BEGIN:VEVENT
DTSTART;TZID=America/Chicago:20250704T080000
DTEND;TZID=America/Chicago:20250704T110000
DTSTAMP:20260421T201433
CREATED:20250616T184038Z
LAST-MODIFIED:20250616T184038Z
UID:6128-1751616000-1751626800@fredericksburgteaparty.org
SUMMARY:Patriotic Prayer and Parade
DESCRIPTION:
URL:https://fredericksburgteaparty.org/event/patriotic-prayer-and-parade/
END:VEVENT
BEGIN:VEVENT
DTSTART;VALUE=DATE:20250624
DTEND;VALUE=DATE:20250627
DTSTAMP:20260421T201433
CREATED:20250616T183853Z
LAST-MODIFIED:20250616T183853Z
UID:6126-1750723200-1750982399@fredericksburgteaparty.org
SUMMARY:Liberty Pastors Training
DESCRIPTION:
URL:https://fredericksburgteaparty.org/event/liberty-pastors-training/
END:VEVENT
BEGIN:VEVENT
DTSTART;TZID=America/Chicago:20250619T180000
DTEND;TZID=America/Chicago:20250619T200000
DTSTAMP:20260421T201433
CREATED:20250616T183724Z
LAST-MODIFIED:20250616T183724Z
UID:6124-1750356000-1750363200@fredericksburgteaparty.org
SUMMARY:Hill Country Preppers Meeting
DESCRIPTION:Hill Country Preppers Meeting\nThursday\, June 19th at 6 PM \nThe Texas Epidemic Public Health Institute presents “Community Engagement and Preparedness” \nIn recent years\, emphasis has been placed on the role of the community in disaster recovery\, particularly on the importance of local knowledge\, action\, participation\, and control in determining the nature of disaster response. It is logical that the local community should be the first line of defense in preparing and responding in the event of disaster. Local residents and groups can best identify their immediate needs\, coordinate preparations\, supplement official response efforts\, implement emergency response programs\, and contribute to local decision making for future events. Similarly\, local communities can provide a sense of connection\, and decrease the isolation and abandonment that is often felt among residents in times of disaster. \nBuzzie’s BBQ\n213 Schreiner St\, Kerrville
URL:https://fredericksburgteaparty.org/event/hill-country-preppers-meeting-10/
END:VEVENT
BEGIN:VEVENT
DTSTART;TZID=America/Chicago:20250619T173000
DTEND;TZID=America/Chicago:20250619T190000
DTSTAMP:20260421T201433
CREATED:20250616T183648Z
LAST-MODIFIED:20250616T183648Z
UID:6122-1750354200-1750359600@fredericksburgteaparty.org
SUMMARY:BESS Town Hall & Fundraiser
DESCRIPTION:
URL:https://fredericksburgteaparty.org/event/bess-town-hall-fundraiser/
END:VEVENT
BEGIN:VEVENT
DTSTART;TZID=America/Chicago:20250617T180000
DTEND;TZID=America/Chicago:20250617T200000
DTSTAMP:20260421T201433
CREATED:20250526T161549Z
LAST-MODIFIED:20250526T161549Z
UID:6091-1750183200-1750190400@fredericksburgteaparty.org
SUMMARY:Health & Wellness Expo
DESCRIPTION:
URL:https://fredericksburgteaparty.org/event/health-wellness-expo/
END:VEVENT
BEGIN:VEVENT
DTSTART;TZID=America/Chicago:20250605T180000
DTEND;TZID=America/Chicago:20250605T200000
DTSTAMP:20260421T201433
CREATED:20250513T002850Z
LAST-MODIFIED:20250513T002850Z
UID:6084-1749146400-1749153600@fredericksburgteaparty.org
SUMMARY:FTP's June Meeting with Bill Peacock
DESCRIPTION:
URL:https://fredericksburgteaparty.org/event/ftps-june-meeting-with-bill-peacock/
END:VEVENT
BEGIN:VEVENT
DTSTART;VALUE=DATE:20250605
DTEND;VALUE=DATE:20250608
DTSTAMP:20260421T201433
CREATED:20250120T194522Z
LAST-MODIFIED:20250203T175930Z
UID:5886-1749081600-1749340799@fredericksburgteaparty.org
SUMMARY:Texas Homeschool State Convention
DESCRIPTION:Details here
URL:https://fredericksburgteaparty.org/event/5886/
END:VEVENT
BEGIN:VEVENT
DTSTART;TZID=America/Chicago:20250529T173000
DTEND;TZID=America/Chicago:20250529T203000
DTSTAMP:20260421T201433
CREATED:20250415T202809Z
LAST-MODIFIED:20250415T202809Z
UID:6036-1748539800-1748550600@fredericksburgteaparty.org
SUMMARY:The Trump Doctrine
DESCRIPTION:
URL:https://fredericksburgteaparty.org/event/the-trump-doctrine/
END:VEVENT
BEGIN:VEVENT
DTSTART;TZID=America/Chicago:20250519T180000
DTEND;TZID=America/Chicago:20250519T200000
DTSTAMP:20260421T201434
CREATED:20250513T002735Z
LAST-MODIFIED:20250513T002735Z
UID:6082-1747677600-1747684800@fredericksburgteaparty.org
SUMMARY:Harper BESS Meeting
DESCRIPTION:Harper BESS Meeting\nMonday\, May 19th at 6 PM \nShow up to encourage a stand against the lithium battery storage facility (BESS) \nArrive at 5:45 PM if you are signing up to speak \nHarper ISD Administration Bldg
URL:https://fredericksburgteaparty.org/event/harper-bess-meeting/
END:VEVENT
BEGIN:VEVENT
DTSTART;TZID=America/Chicago:20250519T180000
DTEND;TZID=America/Chicago:20250519T200000
DTSTAMP:20260421T201434
CREATED:20250513T002654Z
LAST-MODIFIED:20250513T002654Z
UID:6080-1747677600-1747684800@fredericksburgteaparty.org
SUMMARY:Kerr County Patriots with Angela Smith
DESCRIPTION:
URL:https://fredericksburgteaparty.org/event/kerr-county-patriots-with-angela-smith/
END:VEVENT
BEGIN:VEVENT
DTSTART;VALUE=DATE:20250519
DTEND;VALUE=DATE:20250520
DTSTAMP:20260421T201434
CREATED:20250428T213622Z
LAST-MODIFIED:20250428T213622Z
UID:6063-1747612800-1747699199@fredericksburgteaparty.org
SUMMARY:Policy & Prayer
DESCRIPTION:
URL:https://fredericksburgteaparty.org/event/policy-prayer/
END:VEVENT
BEGIN:VEVENT
DTSTART;TZID=America/Chicago:20250515T170000
DTEND;TZID=America/Chicago:20250515T220000
DTSTAMP:20260421T201434
CREATED:20250428T213550Z
LAST-MODIFIED:20250428T213550Z
UID:6061-1747328400-1747346400@fredericksburgteaparty.org
SUMMARY:Follow the Silenced
DESCRIPTION:
URL:https://fredericksburgteaparty.org/event/follow-the-silenced/
END:VEVENT
BEGIN:VEVENT
DTSTART;TZID=America/Chicago:20250508T183000
DTEND;TZID=America/Chicago:20250508T203000
DTSTAMP:20260421T201434
CREATED:20250428T213506Z
LAST-MODIFIED:20250428T213506Z
UID:6059-1746729000-1746736200@fredericksburgteaparty.org
SUMMARY:FTP May Meeting with Don Huffines
DESCRIPTION:
URL:https://fredericksburgteaparty.org/event/ftp-may-meeting-with-don-huffines/
END:VEVENT
BEGIN:VEVENT
DTSTART;TZID=America/Chicago:20250508T180000
DTEND;TZID=America/Chicago:20250508T210000
DTSTAMP:20260421T201434
CREATED:20250415T202728Z
LAST-MODIFIED:20250415T202728Z
UID:6034-1746727200-1746738000@fredericksburgteaparty.org
SUMMARY:Mercy Gate Ministries Fundraiser
DESCRIPTION:
URL:https://fredericksburgteaparty.org/event/mercy-gate-ministries-fundraiser/
END:VEVENT
BEGIN:VEVENT
DTSTART;TZID=America/Chicago:20250501T173000
DTEND;TZID=America/Chicago:20250501T190000
DTSTAMP:20260421T201434
CREATED:20250428T213428Z
LAST-MODIFIED:20250428T213428Z
UID:6057-1746120600-1746126000@fredericksburgteaparty.org
SUMMARY:National Day of Prayer
DESCRIPTION:
URL:https://fredericksburgteaparty.org/event/national-day-of-prayer/
END:VEVENT
BEGIN:VEVENT
DTSTART;VALUE=DATE:20250428
DTEND;VALUE=DATE:20250504
DTSTAMP:20260421T201434
CREATED:20250428T213350Z
LAST-MODIFIED:20250428T213350Z
UID:6055-1745798400-1746316799@fredericksburgteaparty.org
SUMMARY:Fredericksburg City Council Election
DESCRIPTION:Fredericksburg City Council Election \nFour candidates for two council seats \nEarly voting today (4/28) and tomorrow (4/29) will be 7 a.m. to 7 p.m. \nElection Day will be Saturday\, May 3 from 7 a.m. to 7 p.m. \nGillespie County Elections Office\, 95 Frederick Road
URL:https://fredericksburgteaparty.org/event/fredericksburg-city-council-election/
END:VEVENT
BEGIN:VEVENT
DTSTART;TZID=America/Chicago:20250423T180000
DTEND;TZID=America/Chicago:20250423T210000
DTSTAMP:20260421T201434
CREATED:20250415T202634Z
LAST-MODIFIED:20250415T202634Z
UID:6032-1745431200-1745442000@fredericksburgteaparty.org
SUMMARY:Braveheart Ball
DESCRIPTION:
URL:https://fredericksburgteaparty.org/event/braveheart-ball/
END:VEVENT
BEGIN:VEVENT
DTSTART;TZID=America/Chicago:20250417T180000
DTEND;TZID=America/Chicago:20250417T200000
DTSTAMP:20260421T201434
CREATED:20250415T202558Z
LAST-MODIFIED:20250415T202558Z
UID:6030-1744912800-1744920000@fredericksburgteaparty.org
SUMMARY:Hill Country Preppers Meeting
DESCRIPTION:Thursday\, April 17th at 6 PM \nHill Country Preppers Meeting\nForum on preparedness issues \nBuzzie’s BBQ\n213 Schreiner St\, Kerrville
URL:https://fredericksburgteaparty.org/event/hill-country-preppers-meeting-9/
END:VEVENT
BEGIN:VEVENT
DTSTART;TZID=America/Chicago:20250417T180000
DTEND;TZID=America/Chicago:20250417T193000
DTSTAMP:20260421T201434
CREATED:20250415T202425Z
LAST-MODIFIED:20250415T202425Z
UID:6026-1744912800-1744918200@fredericksburgteaparty.org
SUMMARY:FBG Candidate Forums
DESCRIPTION:You must register to attend HERE \nCan’t make it on April 17th? There’s a second option on April 15th at 6:30 PM in the City Hall (East Campus\, Community Room)
URL:https://fredericksburgteaparty.org/event/fbg-candidate-forums/
END:VEVENT
BEGIN:VEVENT
DTSTART;TZID=America/Chicago:20250416T100000
DTEND;TZID=America/Chicago:20250416T120000
DTSTAMP:20260421T201434
CREATED:20250415T202512Z
LAST-MODIFIED:20250415T202512Z
UID:6028-1744797600-1744804800@fredericksburgteaparty.org
SUMMARY:BESS Meeting
DESCRIPTION:
URL:https://fredericksburgteaparty.org/event/bess-meeting/
END:VEVENT
BEGIN:VEVENT
DTSTART;TZID=America/Chicago:20250410T180000
DTEND;TZID=America/Chicago:20250410T200000
DTSTAMP:20260421T201434
CREATED:20250317T193915Z
LAST-MODIFIED:20250317T193915Z
UID:5998-1744308000-1744315200@fredericksburgteaparty.org
SUMMARY:FTP April Meeting
DESCRIPTION:
URL:https://fredericksburgteaparty.org/event/ftp-april-meeting-2/
END:VEVENT
BEGIN:VEVENT
DTSTART;TZID=America/Chicago:20250303T080000
DTEND;TZID=America/Chicago:20250303T170000
DTSTAMP:20260421T201434
CREATED:20250303T195646Z
LAST-MODIFIED:20250303T195646Z
UID:5962-1740988800-1741021200@fredericksburgteaparty.org
SUMMARY:M4LU Restorative Justice Courses
DESCRIPTION:
URL:https://fredericksburgteaparty.org/event/m4lu-restorative-justice-courses/
END:VEVENT
END:VCALENDAR