BEGIN:VCALENDAR
VERSION:2.0
PRODID:-//Fredericksburg Tea Party - ECPv6.15.20//NONSGML v1.0//EN
CALSCALE:GREGORIAN
METHOD:PUBLISH
X-WR-CALNAME:Fredericksburg Tea Party
X-ORIGINAL-URL:https://fredericksburgteaparty.org
X-WR-CALDESC:Events for Fredericksburg Tea Party
REFRESH-INTERVAL;VALUE=DURATION:PT1H
X-Robots-Tag:noindex
X-PUBLISHED-TTL:PT1H
BEGIN:VTIMEZONE
TZID:America/Chicago
BEGIN:DAYLIGHT
TZOFFSETFROM:-0600
TZOFFSETTO:-0500
TZNAME:CDT
DTSTART:20240310T080000
END:DAYLIGHT
BEGIN:STANDARD
TZOFFSETFROM:-0500
TZOFFSETTO:-0600
TZNAME:CST
DTSTART:20241103T070000
END:STANDARD
BEGIN:DAYLIGHT
TZOFFSETFROM:-0600
TZOFFSETTO:-0500
TZNAME:CDT
DTSTART:20250309T080000
END:DAYLIGHT
BEGIN:STANDARD
TZOFFSETFROM:-0500
TZOFFSETTO:-0600
TZNAME:CST
DTSTART:20251102T070000
END:STANDARD
BEGIN:DAYLIGHT
TZOFFSETFROM:-0600
TZOFFSETTO:-0500
TZNAME:CDT
DTSTART:20260308T080000
END:DAYLIGHT
BEGIN:STANDARD
TZOFFSETFROM:-0500
TZOFFSETTO:-0600
TZNAME:CST
DTSTART:20261101T070000
END:STANDARD
END:VTIMEZONE
BEGIN:VEVENT
DTSTART;VALUE=DATE:20250303
DTEND;VALUE=DATE:20250308
DTSTAMP:20260422T020603
CREATED:20250203T180353Z
LAST-MODIFIED:20250203T180353Z
UID:5907-1740960000-1741391999@fredericksburgteaparty.org
SUMMARY:Family Friendly Book Fair
DESCRIPTION:
URL:https://fredericksburgteaparty.org/event/family-friendly-book-fair/
END:VEVENT
BEGIN:VEVENT
DTSTART;TZID=America/Chicago:20250306T090000
DTEND;TZID=America/Chicago:20250306T160000
DTSTAMP:20260422T020604
CREATED:20250217T200249Z
LAST-MODIFIED:20250217T200249Z
UID:5951-1741251600-1741276800@fredericksburgteaparty.org
SUMMARY:Texas Faith & Family Day
DESCRIPTION:
URL:https://fredericksburgteaparty.org/event/texas-faith-family-day-2/
END:VEVENT
BEGIN:VEVENT
DTSTART;TZID=America/Chicago:20250306T103000
DTEND;TZID=America/Chicago:20250306T123000
DTSTAMP:20260422T020604
CREATED:20250303T195407Z
LAST-MODIFIED:20250303T195407Z
UID:5960-1741257000-1741264200@fredericksburgteaparty.org
SUMMARY:House Elections Committee Meeting
DESCRIPTION:
URL:https://fredericksburgteaparty.org/event/house-elections-committee-meeting/
END:VEVENT
END:VCALENDAR