BEGIN:VCALENDAR
VERSION:2.0
PRODID:-//Fredericksburg Tea Party - ECPv6.15.20//NONSGML v1.0//EN
CALSCALE:GREGORIAN
METHOD:PUBLISH
X-ORIGINAL-URL:https://fredericksburgteaparty.org
X-WR-CALDESC:Events for Fredericksburg Tea Party
REFRESH-INTERVAL;VALUE=DURATION:PT1H
X-Robots-Tag:noindex
X-PUBLISHED-TTL:PT1H
BEGIN:VTIMEZONE
TZID:America/Chicago
BEGIN:DAYLIGHT
TZOFFSETFROM:-0600
TZOFFSETTO:-0500
TZNAME:CDT
DTSTART:20240310T080000
END:DAYLIGHT
BEGIN:STANDARD
TZOFFSETFROM:-0500
TZOFFSETTO:-0600
TZNAME:CST
DTSTART:20241103T070000
END:STANDARD
BEGIN:DAYLIGHT
TZOFFSETFROM:-0600
TZOFFSETTO:-0500
TZNAME:CDT
DTSTART:20250309T080000
END:DAYLIGHT
BEGIN:STANDARD
TZOFFSETFROM:-0500
TZOFFSETTO:-0600
TZNAME:CST
DTSTART:20251102T070000
END:STANDARD
BEGIN:DAYLIGHT
TZOFFSETFROM:-0600
TZOFFSETTO:-0500
TZNAME:CDT
DTSTART:20260308T080000
END:DAYLIGHT
BEGIN:STANDARD
TZOFFSETFROM:-0500
TZOFFSETTO:-0600
TZNAME:CST
DTSTART:20261101T070000
END:STANDARD
END:VTIMEZONE
BEGIN:VEVENT
DTSTART;VALUE=DATE:20250303
DTEND;VALUE=DATE:20250308
DTSTAMP:20260422T020800
CREATED:20250203T180353Z
LAST-MODIFIED:20250203T180353Z
UID:5907-1740960000-1741391999@fredericksburgteaparty.org
SUMMARY:Family Friendly Book Fair
DESCRIPTION:
URL:https://fredericksburgteaparty.org/event/family-friendly-book-fair/
END:VEVENT
BEGIN:VEVENT
DTSTART;TZID=America/Chicago:20250304T080000
DTEND;TZID=America/Chicago:20250304T140000
DTSTAMP:20260422T020800
CREATED:20250217T200135Z
LAST-MODIFIED:20250217T200135Z
UID:5949-1741075200-1741096800@fredericksburgteaparty.org
SUMMARY:Texas Sentinel Lobby Day
DESCRIPTION:This event is for Sentinels and registration is required\nWant to become a Sentinel? Learn more here
URL:https://fredericksburgteaparty.org/event/texas-sentinel-lobby-day/
END:VEVENT
BEGIN:VEVENT
DTSTART;TZID=America/Chicago:20250303T080000
DTEND;TZID=America/Chicago:20250303T170000
DTSTAMP:20260422T020800
CREATED:20250303T195646Z
LAST-MODIFIED:20250303T195646Z
UID:5962-1740988800-1741021200@fredericksburgteaparty.org
SUMMARY:M4LU Restorative Justice Courses
DESCRIPTION:
URL:https://fredericksburgteaparty.org/event/m4lu-restorative-justice-courses/
END:VEVENT
END:VCALENDAR