BEGIN:VCALENDAR
VERSION:2.0
PRODID:-//Fredericksburg Tea Party - ECPv6.15.20//NONSGML v1.0//EN
CALSCALE:GREGORIAN
METHOD:PUBLISH
X-ORIGINAL-URL:https://fredericksburgteaparty.org
X-WR-CALDESC:Events for Fredericksburg Tea Party
REFRESH-INTERVAL;VALUE=DURATION:PT1H
X-Robots-Tag:noindex
X-PUBLISHED-TTL:PT1H
BEGIN:VTIMEZONE
TZID:America/Chicago
BEGIN:DAYLIGHT
TZOFFSETFROM:-0600
TZOFFSETTO:-0500
TZNAME:CDT
DTSTART:20230312T080000
END:DAYLIGHT
BEGIN:STANDARD
TZOFFSETFROM:-0500
TZOFFSETTO:-0600
TZNAME:CST
DTSTART:20231105T070000
END:STANDARD
BEGIN:DAYLIGHT
TZOFFSETFROM:-0600
TZOFFSETTO:-0500
TZNAME:CDT
DTSTART:20240310T080000
END:DAYLIGHT
BEGIN:STANDARD
TZOFFSETFROM:-0500
TZOFFSETTO:-0600
TZNAME:CST
DTSTART:20241103T070000
END:STANDARD
BEGIN:DAYLIGHT
TZOFFSETFROM:-0600
TZOFFSETTO:-0500
TZNAME:CDT
DTSTART:20250309T080000
END:DAYLIGHT
BEGIN:STANDARD
TZOFFSETFROM:-0500
TZOFFSETTO:-0600
TZNAME:CST
DTSTART:20251102T070000
END:STANDARD
END:VTIMEZONE
BEGIN:VEVENT
DTSTART;VALUE=DATE:20241119
DTEND;VALUE=DATE:20241120
DTSTAMP:20260422T075634
CREATED:20241118T180909Z
LAST-MODIFIED:20241118T180909Z
UID:5811-1731974400-1732060799@fredericksburgteaparty.org
SUMMARY:Lithium Storage in Harper Meeting
DESCRIPTION:Plus! Tuesday\, November 19th at 1:00 PM \nWorkshop of the Kerr County Commissioners’ Court on forming a 391 Commission \nThe workshop will be live streamed here \nDan Byfield with American Stewards of Liberty will join the workshop on a conference call as will the Hon. Judge Trey Duhon from Waller County to share their experience in forming and working within 391 commissions \nRep. Ellen Troxclair has filed HB 1343 to provide critical permitting and oversight regulations for all battery storage facilities in Texas \nLearn more about Battery Storage Systems here
URL:https://fredericksburgteaparty.org/event/lithium-storage-in-harper-meeting/
END:VEVENT
BEGIN:VEVENT
DTSTART;TZID=America/Chicago:20241119T180000
DTEND;TZID=America/Chicago:20241119T200000
DTSTAMP:20260422T075634
CREATED:20241021T184953Z
LAST-MODIFIED:20241021T184953Z
UID:5763-1732039200-1732046400@fredericksburgteaparty.org
SUMMARY:Active Shooter Workshop
DESCRIPTION:
URL:https://fredericksburgteaparty.org/event/active-shooter-workshop/
END:VEVENT
BEGIN:VEVENT
DTSTART;TZID=America/Chicago:20241119T180000
DTEND;TZID=America/Chicago:20241119T200000
DTSTAMP:20260422T075634
CREATED:20241108T204626Z
LAST-MODIFIED:20241108T204626Z
UID:5790-1732039200-1732046400@fredericksburgteaparty.org
SUMMARY:Kerrville Christian Chamber Meeting
DESCRIPTION:Tuesday\, November 19th at 6 PM \nKerrville Christian Chamber Meeting\nfeaturing a concert performance from Elizabeth Rose Williams \nThere will be time for networking and announcements related to your businesses \nBCFS Building\n1127 East Main St\, Kerrville
URL:https://fredericksburgteaparty.org/event/kerrville-christian-chamber-meeting-4/
END:VEVENT
END:VCALENDAR